BEGIN:VCALENDAR
VERSION:2.0
PRODID:-//88.3 The Journey - ECPv6.15.20//NONSGML v1.0//EN
CALSCALE:GREGORIAN
METHOD:PUBLISH
X-ORIGINAL-URL:https://883thejourney.org
X-WR-CALDESC:Events for 88.3 The Journey
REFRESH-INTERVAL;VALUE=DURATION:PT1H
X-Robots-Tag:noindex
X-PUBLISHED-TTL:PT1H
BEGIN:VTIMEZONE
TZID:America/Chicago
BEGIN:DAYLIGHT
TZOFFSETFROM:-0600
TZOFFSETTO:-0500
TZNAME:CDT
DTSTART:20240310T080000
END:DAYLIGHT
BEGIN:STANDARD
TZOFFSETFROM:-0500
TZOFFSETTO:-0600
TZNAME:CST
DTSTART:20241103T070000
END:STANDARD
BEGIN:DAYLIGHT
TZOFFSETFROM:-0600
TZOFFSETTO:-0500
TZNAME:CDT
DTSTART:20250309T080000
END:DAYLIGHT
BEGIN:STANDARD
TZOFFSETFROM:-0500
TZOFFSETTO:-0600
TZNAME:CST
DTSTART:20251102T070000
END:STANDARD
BEGIN:DAYLIGHT
TZOFFSETFROM:-0600
TZOFFSETTO:-0500
TZNAME:CDT
DTSTART:20260308T080000
END:DAYLIGHT
BEGIN:STANDARD
TZOFFSETFROM:-0500
TZOFFSETTO:-0600
TZNAME:CST
DTSTART:20261101T070000
END:STANDARD
BEGIN:DAYLIGHT
TZOFFSETFROM:-0600
TZOFFSETTO:-0500
TZNAME:CDT
DTSTART:20270314T080000
END:DAYLIGHT
BEGIN:STANDARD
TZOFFSETFROM:-0500
TZOFFSETTO:-0600
TZNAME:CST
DTSTART:20271107T070000
END:STANDARD
END:VTIMEZONE
BEGIN:VEVENT
DTSTART;TZID=America/Chicago:20260219T190000
DTEND;TZID=America/Chicago:20260219T210000
DTSTAMP:20260418T185835
CREATED:20251209T055131Z
LAST-MODIFIED:20251209T055131Z
UID:10020445-1771527600-1771534800@883thejourney.org
SUMMARY:Jamie McDonald: Left It In The River Tour
DESCRIPTION:Join Jamie McDonald for her 1st headline tour after 2 #1 hits in 2025!  With a soulful voice and raw\, heartfelt lyrics\, songs like “A Million Chances” and “Desperate” tell stories of redemption and hope\, drawn from her own journey.  She’ll be at Studio at The Bomb Factory in Dallas with special guest Taylor Hill on Thursday\, February 19th at 7PM.
URL:https://883thejourney.org/event/jamie-mcdonald-left-it-in-the-river-tour/
LOCATION:Studio at the Bomb Factory\, Dallas
CATEGORIES:Concerts
ORGANIZER;CN="TPR":MAILTO:info@tprlive.co
GEO:32.7766642;-96.7969879
END:VEVENT
BEGIN:VEVENT
DTSTART;TZID=America/Chicago:20251211T190000
DTEND;TZID=America/Chicago:20251211T213000
DTSTAMP:20260418T185835
CREATED:20250919T035319Z
LAST-MODIFIED:20250919T035319Z
UID:10018738-1765479600-1765488600@883thejourney.org
SUMMARY:Christmas with Cece Winans
DESCRIPTION:17-time Grammy award winning\, Gospel music legend\, CECE WINANS is excited to bring her CHRISTMAS tour to eight cities this winter\, featuring her special guests; her sisters; ANGIE WINANS and DEBBIE WINANS. CeCe\, Angie\, and Debbie are looking forward to celebrating the true meaning of the season with audiences across the country. The concert will feature some of CeCe’s biggest hits and Christmas classics sung as only CeCe is able! Don’t miss this chance to see CeCe performing her Christmas tour LIVE!
URL:https://883thejourney.org/event/christmas-with-cece-winans/
LOCATION:Texas Trust CU Theatre\, 1001 Texas Trust Way\, Grand Prairie\, TX\, 75050\, United States
CATEGORIES:Concerts
ORGANIZER;CN="TPR":MAILTO:info@tprlive.co
GEO:32.7668573;-96.9823914
X-APPLE-STRUCTURED-LOCATION;VALUE=URI;X-ADDRESS=Texas Trust CU Theatre 1001 Texas Trust Way Grand Prairie TX 75050 United States;X-APPLE-RADIUS=500;X-TITLE=1001 Texas Trust Way:geo:-96.9823914,32.7668573
END:VEVENT
END:VCALENDAR