BEGIN:VCALENDAR
VERSION:2.0
PRODID:-//88.3 The Journey - ECPv6.15.20//NONSGML v1.0//EN
CALSCALE:GREGORIAN
METHOD:PUBLISH
X-ORIGINAL-URL:https://883thejourney.org
X-WR-CALDESC:Events for 88.3 The Journey
REFRESH-INTERVAL;VALUE=DURATION:PT1H
X-Robots-Tag:noindex
X-PUBLISHED-TTL:PT1H
BEGIN:VTIMEZONE
TZID:America/Chicago
BEGIN:DAYLIGHT
TZOFFSETFROM:-0600
TZOFFSETTO:-0500
TZNAME:CDT
DTSTART:20250309T080000
END:DAYLIGHT
BEGIN:STANDARD
TZOFFSETFROM:-0500
TZOFFSETTO:-0600
TZNAME:CST
DTSTART:20251102T070000
END:STANDARD
BEGIN:DAYLIGHT
TZOFFSETFROM:-0600
TZOFFSETTO:-0500
TZNAME:CDT
DTSTART:20260308T080000
END:DAYLIGHT
BEGIN:STANDARD
TZOFFSETFROM:-0500
TZOFFSETTO:-0600
TZNAME:CST
DTSTART:20261101T070000
END:STANDARD
BEGIN:DAYLIGHT
TZOFFSETFROM:-0600
TZOFFSETTO:-0500
TZNAME:CDT
DTSTART:20270314T080000
END:DAYLIGHT
BEGIN:STANDARD
TZOFFSETFROM:-0500
TZOFFSETTO:-0600
TZNAME:CST
DTSTART:20271107T070000
END:STANDARD
END:VTIMEZONE
BEGIN:VEVENT
DTSTART;TZID=America/Chicago:20261011T190000
DTEND;TZID=America/Chicago:20261011T220000
DTSTAMP:20260423T150851
CREATED:20260327T070929Z
LAST-MODIFIED:20260327T070929Z
UID:10021022-1791745200-1791756000@883thejourney.org
SUMMARY:CeCe Winans: Come Worship! Tour [w/Charity Gayle\, Terrian\, & Red Worship]
DESCRIPTION:Eighteen-time Grammy Award-winning artist CeCe Winans is bringing her COME WORSHIP! Tour to Dickies Arena on Sunday\, October 11\, 2026\, with special guests Charity Gayle\, Terrian\, and Red Worship. \nDesigned as a powerful\, multi-generational call to unity\, this special night invites people of all ages\, backgrounds\, and denominations to come together for an unforgettable worship experience. Blending beloved classics\, modern worship favorites\, and spontaneous moments\, the evening creates space for faith\, connection\, and encouragement. \nMore than a concert\, COME WORSHIP! is a sacred invitation to gather as one and lift up the name of Jesus together. Get your tickets today!
URL:https://883thejourney.org/event/cece-winans-come-worship-tour-w-charity-gayle-terrian-red-worship/
LOCATION:Dickies Arena\, 1911 Montgomery St\, Fort Worth\, 76107
CATEGORIES:Concerts
ORGANIZER;CN="TPR":MAILTO:info@tprlive.co
GEO:32.7408908;-97.3699379
X-APPLE-STRUCTURED-LOCATION;VALUE=URI;X-ADDRESS=Dickies Arena 1911 Montgomery St Fort Worth 76107;X-APPLE-RADIUS=500;X-TITLE=1911 Montgomery St:geo:-97.3699379,32.7408908
END:VEVENT
BEGIN:VEVENT
DTSTART;TZID=America/Chicago:20261013T163000
DTEND;TZID=America/Chicago:20261013T180000
DTSTAMP:20260423T150851
CREATED:20240617T153359Z
LAST-MODIFIED:20240617T153359Z
UID:10014619-1791909000-1791914400@883thejourney.org
SUMMARY:Godley Caregiver Support Group
DESCRIPTION:Alzheimer’s Association support groups provide emotional\, eductional and social support for caregivers thrugh regularly scheduled meetings. Participants learn to develop coping methods and maintain their personal\, physical\, and emotional health.
URL:https://883thejourney.org/event/godley-caregiver-support-group-2/2026-10-13/
LOCATION:Austin County State Bank\, 401 N Highway 171\, Godley\, 76044
CATEGORIES:Community Events
GEO:32.4474557;-97.5330591
X-APPLE-STRUCTURED-LOCATION;VALUE=URI;X-ADDRESS=Austin County State Bank 401 N Highway 171 Godley 76044;X-APPLE-RADIUS=500;X-TITLE=401 N Highway 171:geo:-97.5330591,32.4474557
END:VEVENT
BEGIN:VEVENT
DTSTART;TZID=America/Chicago:20261016T200000
DTEND;TZID=America/Chicago:20261016T223000
DTSTAMP:20260423T150851
CREATED:20230531T152455Z
LAST-MODIFIED:20240129T135601Z
UID:10000960-1792180800-1792189800@883thejourney.org
SUMMARY:Thomsen Observatory
DESCRIPTION:(weather permitting) Look through telescopes and equipment scientists use to study the stars and planets. Plan a star watching party with friends or schedule a tour. But the observatory is open every 1st and 3rd Friday nights of the month. Just bring some bug spray!
URL:https://883thejourney.org/event/thomsen-observatory-2/2026-10-16/
LOCATION:Thomsen Observatory\, 425 Linden St\, Keene\, TX\, 76059\, United States
GEO:32.4019333;-97.3327621
X-APPLE-STRUCTURED-LOCATION;VALUE=URI;X-ADDRESS=Thomsen Observatory 425 Linden St Keene TX 76059 United States;X-APPLE-RADIUS=500;X-TITLE=425 Linden St:geo:-97.3327621,32.4019333
END:VEVENT
END:VCALENDAR