BEGIN:VCALENDAR
VERSION:2.0
PRODID:-//88.3 The Journey - ECPv6.15.20//NONSGML v1.0//EN
CALSCALE:GREGORIAN
METHOD:PUBLISH
X-WR-CALNAME:88.3 The Journey
X-ORIGINAL-URL:https://883thejourney.org
X-WR-CALDESC:Events for 88.3 The Journey
REFRESH-INTERVAL;VALUE=DURATION:PT1H
X-Robots-Tag:noindex
X-PUBLISHED-TTL:PT1H
BEGIN:VTIMEZONE
TZID:America/Chicago
BEGIN:DAYLIGHT
TZOFFSETFROM:-0600
TZOFFSETTO:-0500
TZNAME:CDT
DTSTART:20280312T080000
END:DAYLIGHT
BEGIN:STANDARD
TZOFFSETFROM:-0500
TZOFFSETTO:-0600
TZNAME:CST
DTSTART:20281105T070000
END:STANDARD
BEGIN:DAYLIGHT
TZOFFSETFROM:-0600
TZOFFSETTO:-0500
TZNAME:CDT
DTSTART:20290311T080000
END:DAYLIGHT
BEGIN:STANDARD
TZOFFSETFROM:-0500
TZOFFSETTO:-0600
TZNAME:CST
DTSTART:20291104T070000
END:STANDARD
BEGIN:DAYLIGHT
TZOFFSETFROM:-0600
TZOFFSETTO:-0500
TZNAME:CDT
DTSTART:20300310T080000
END:DAYLIGHT
BEGIN:STANDARD
TZOFFSETFROM:-0500
TZOFFSETTO:-0600
TZNAME:CST
DTSTART:20301103T070000
END:STANDARD
END:VTIMEZONE
BEGIN:VEVENT
DTSTART;TZID=America/Chicago:20290612T163000
DTEND;TZID=America/Chicago:20290612T180000
DTSTAMP:20260421T180119
CREATED:20240617T153359Z
LAST-MODIFIED:20240617T153359Z
UID:10016665-1875976200-1875981600@883thejourney.org
SUMMARY:Godley Caregiver Support Group
DESCRIPTION:Alzheimer’s Association support groups provide emotional\, eductional and social support for caregivers thrugh regularly scheduled meetings. Participants learn to develop coping methods and maintain their personal\, physical\, and emotional health.
URL:https://883thejourney.org/event/godley-caregiver-support-group-2/2029-06-12/
LOCATION:Austin County State Bank\, 401 N Highway 171\, Godley\, 76044
CATEGORIES:Community Events
GEO:32.4474557;-97.5330591
X-APPLE-STRUCTURED-LOCATION;VALUE=URI;X-ADDRESS=Austin County State Bank 401 N Highway 171 Godley 76044;X-APPLE-RADIUS=500;X-TITLE=401 N Highway 171:geo:-97.5330591,32.4474557
END:VEVENT
BEGIN:VEVENT
DTSTART;TZID=America/Chicago:20290615T200000
DTEND;TZID=America/Chicago:20290615T223000
DTSTAMP:20260421T180119
CREATED:20230531T152455Z
LAST-MODIFIED:20240129T135601Z
UID:10016827-1876248000-1876257000@883thejourney.org
SUMMARY:Thomsen Observatory
DESCRIPTION:(weather permitting) Look through telescopes and equipment scientists use to study the stars and planets. Plan a star watching party with friends or schedule a tour. But the observatory is open every 1st and 3rd Friday nights of the month. Just bring some bug spray!
URL:https://883thejourney.org/event/thomsen-observatory-2/2029-06-15/
LOCATION:Thomsen Observatory\, 425 Linden St\, Keene\, TX\, 76059\, United States
GEO:32.4019333;-97.3327621
X-APPLE-STRUCTURED-LOCATION;VALUE=URI;X-ADDRESS=Thomsen Observatory 425 Linden St Keene TX 76059 United States;X-APPLE-RADIUS=500;X-TITLE=425 Linden St:geo:-97.3327621,32.4019333
END:VEVENT
BEGIN:VEVENT
DTSTART;TZID=America/Chicago:20290629T060000
DTEND;TZID=America/Chicago:20290629T073000
DTSTAMP:20260421T180119
CREATED:20260302T203009Z
LAST-MODIFIED:20260302T203158Z
UID:10020612-1877407200-1877412600@883thejourney.org
SUMMARY:Women's Abide Gathering
DESCRIPTION:Come enjoy coffee\, community\, and meaningful conversation as we grow together!!!  Rooted in faith. Growing in wholeness. All women welcome—no matter where you’re at in your journey!\n\n\n\n\n\n Flying Squirrel Coffee Company\n216 E Main St\, Crowley\, TX 76036
URL:https://883thejourney.org/event/womens-abide-gathering/2029-06-29/
LOCATION:Flying Squirrell Coffee Company\, 216 E Main St\, Crowley\, TX\, 76036
GEO:32.5781455;-97.3571208
X-APPLE-STRUCTURED-LOCATION;VALUE=URI;X-ADDRESS=Flying Squirrell Coffee Company 216 E Main St Crowley TX 76036;X-APPLE-RADIUS=500;X-TITLE=216 E Main St:geo:-97.3571208,32.5781455
END:VEVENT
BEGIN:VEVENT
DTSTART;TZID=America/Chicago:20290705T130000
DTEND;TZID=America/Chicago:20290705T150000
DTSTAMP:20260421T180119
CREATED:20230515T191538Z
LAST-MODIFIED:20230515T191538Z
UID:10016804-1877950800-1877958000@883thejourney.org
SUMMARY:Volunteer at Senior Food Share
DESCRIPTION:Come volunteer and help serve the senior citizens in our community with our monthly Senior share Food Bank.\nPlease arrive by noon.
URL:https://883thejourney.org/event/volunteer-at-senior-food-share/2029-07-05/
LOCATION:The Annex\, 207 E First Street\, Keene\, 76059
ATTACH;FMTTYPE=image/jpeg:https://883thejourney.org/wp-content/uploads/2023/05/Senior-Food-Share.jpg
GEO:32.3949727;-97.3235144
X-APPLE-STRUCTURED-LOCATION;VALUE=URI;X-ADDRESS=The Annex 207 E First Street Keene 76059;X-APPLE-RADIUS=500;X-TITLE=207 E First Street:geo:-97.3235144,32.3949727
END:VEVENT
BEGIN:VEVENT
DTSTART;TZID=America/Chicago:20290706T200000
DTEND;TZID=America/Chicago:20290706T220000
DTSTAMP:20260421T180119
CREATED:20230531T152337Z
LAST-MODIFIED:20230531T152337Z
UID:10016806-1878062400-1878069600@883thejourney.org
SUMMARY:Thomsen Observatory
DESCRIPTION:Look through telescopes and equipment scientists use to study the stars and planets. Plan a star watching party with friends or schedule a tour. But the observatory is open every 1st and 3rd Friday nights of the month. Just bring some bug spray!
URL:https://883thejourney.org/event/thomsen-observatory/2029-07-06/
LOCATION:Thomsen Observatory\, 425 Linden St\, Keene\, TX\, 76059\, United States
GEO:32.4019333;-97.3327621
X-APPLE-STRUCTURED-LOCATION;VALUE=URI;X-ADDRESS=Thomsen Observatory 425 Linden St Keene TX 76059 United States;X-APPLE-RADIUS=500;X-TITLE=425 Linden St:geo:-97.3327621,32.4019333
END:VEVENT
BEGIN:VEVENT
DTSTART;TZID=America/Chicago:20290710T163000
DTEND;TZID=America/Chicago:20290710T180000
DTSTAMP:20260421T180119
CREATED:20240617T153359Z
LAST-MODIFIED:20240617T153359Z
UID:10018557-1878395400-1878400800@883thejourney.org
SUMMARY:Godley Caregiver Support Group
DESCRIPTION:Alzheimer’s Association support groups provide emotional\, eductional and social support for caregivers thrugh regularly scheduled meetings. Participants learn to develop coping methods and maintain their personal\, physical\, and emotional health.
URL:https://883thejourney.org/event/godley-caregiver-support-group-2/2029-07-10/
LOCATION:Austin County State Bank\, 401 N Highway 171\, Godley\, 76044
CATEGORIES:Community Events
GEO:32.4474557;-97.5330591
X-APPLE-STRUCTURED-LOCATION;VALUE=URI;X-ADDRESS=Austin County State Bank 401 N Highway 171 Godley 76044;X-APPLE-RADIUS=500;X-TITLE=401 N Highway 171:geo:-97.5330591,32.4474557
END:VEVENT
BEGIN:VEVENT
DTSTART;TZID=America/Chicago:20290714T090000
DTEND;TZID=America/Chicago:20290714T103000
DTSTAMP:20260421T180119
CREATED:20240311T143721Z
LAST-MODIFIED:20250220T195950Z
UID:10017515-1878714000-1878719400@883thejourney.org
SUMMARY:Coffee Talk Women's Ministries
DESCRIPTION:Coffee Talk Women’s Ministries meets every second Saturday from 9 to 10:30am at Calvary Church in Ft. Worth. Everyone is welcome for a free breakfast.
URL:https://883thejourney.org/event/coffee-talk-womens-ministries/2029-07-14/
LOCATION:Calvary Church\, 700 McPherson Road\, Fort Worth\, 76140
ORGANIZER;CN="Tracy Shakespeare-Branch":MAILTO:traclight444@aol.com
GEO:32.6040093;-97.2893073
X-APPLE-STRUCTURED-LOCATION;VALUE=URI;X-ADDRESS=Calvary Church 700 McPherson Road Fort Worth 76140;X-APPLE-RADIUS=500;X-TITLE=700 McPherson Road:geo:-97.2893073,32.6040093
END:VEVENT
BEGIN:VEVENT
DTSTART;TZID=America/Chicago:20290720T200000
DTEND;TZID=America/Chicago:20290720T223000
DTSTAMP:20260421T180119
CREATED:20230531T152455Z
LAST-MODIFIED:20240129T135601Z
UID:10016828-1879272000-1879281000@883thejourney.org
SUMMARY:Thomsen Observatory
DESCRIPTION:(weather permitting) Look through telescopes and equipment scientists use to study the stars and planets. Plan a star watching party with friends or schedule a tour. But the observatory is open every 1st and 3rd Friday nights of the month. Just bring some bug spray!
URL:https://883thejourney.org/event/thomsen-observatory-2/2029-07-20/
LOCATION:Thomsen Observatory\, 425 Linden St\, Keene\, TX\, 76059\, United States
GEO:32.4019333;-97.3327621
X-APPLE-STRUCTURED-LOCATION;VALUE=URI;X-ADDRESS=Thomsen Observatory 425 Linden St Keene TX 76059 United States;X-APPLE-RADIUS=500;X-TITLE=425 Linden St:geo:-97.3327621,32.4019333
END:VEVENT
BEGIN:VEVENT
DTSTART;TZID=America/Chicago:20290727T060000
DTEND;TZID=America/Chicago:20290727T073000
DTSTAMP:20260421T180119
CREATED:20260302T203009Z
LAST-MODIFIED:20260302T203158Z
UID:10020613-1879826400-1879831800@883thejourney.org
SUMMARY:Women's Abide Gathering
DESCRIPTION:Come enjoy coffee\, community\, and meaningful conversation as we grow together!!!  Rooted in faith. Growing in wholeness. All women welcome—no matter where you’re at in your journey!\n\n\n\n\n\n Flying Squirrel Coffee Company\n216 E Main St\, Crowley\, TX 76036
URL:https://883thejourney.org/event/womens-abide-gathering/2029-07-27/
LOCATION:Flying Squirrell Coffee Company\, 216 E Main St\, Crowley\, TX\, 76036
GEO:32.5781455;-97.3571208
X-APPLE-STRUCTURED-LOCATION;VALUE=URI;X-ADDRESS=Flying Squirrell Coffee Company 216 E Main St Crowley TX 76036;X-APPLE-RADIUS=500;X-TITLE=216 E Main St:geo:-97.3571208,32.5781455
END:VEVENT
BEGIN:VEVENT
DTSTART;TZID=America/Chicago:20290802T130000
DTEND;TZID=America/Chicago:20290802T150000
DTSTAMP:20260421T180119
CREATED:20230515T191538Z
LAST-MODIFIED:20230515T191538Z
UID:10016840-1880370000-1880377200@883thejourney.org
SUMMARY:Volunteer at Senior Food Share
DESCRIPTION:Come volunteer and help serve the senior citizens in our community with our monthly Senior share Food Bank.\nPlease arrive by noon.
URL:https://883thejourney.org/event/volunteer-at-senior-food-share/2029-08-02/
LOCATION:The Annex\, 207 E First Street\, Keene\, 76059
ATTACH;FMTTYPE=image/jpeg:https://883thejourney.org/wp-content/uploads/2023/05/Senior-Food-Share.jpg
GEO:32.3949727;-97.3235144
X-APPLE-STRUCTURED-LOCATION;VALUE=URI;X-ADDRESS=The Annex 207 E First Street Keene 76059;X-APPLE-RADIUS=500;X-TITLE=207 E First Street:geo:-97.3235144,32.3949727
END:VEVENT
BEGIN:VEVENT
DTSTART;TZID=America/Chicago:20290803T200000
DTEND;TZID=America/Chicago:20290803T220000
DTSTAMP:20260421T180119
CREATED:20230531T152337Z
LAST-MODIFIED:20230531T152337Z
UID:10016841-1880481600-1880488800@883thejourney.org
SUMMARY:Thomsen Observatory
DESCRIPTION:Look through telescopes and equipment scientists use to study the stars and planets. Plan a star watching party with friends or schedule a tour. But the observatory is open every 1st and 3rd Friday nights of the month. Just bring some bug spray!
URL:https://883thejourney.org/event/thomsen-observatory/2029-08-03/
LOCATION:Thomsen Observatory\, 425 Linden St\, Keene\, TX\, 76059\, United States
GEO:32.4019333;-97.3327621
X-APPLE-STRUCTURED-LOCATION;VALUE=URI;X-ADDRESS=Thomsen Observatory 425 Linden St Keene TX 76059 United States;X-APPLE-RADIUS=500;X-TITLE=425 Linden St:geo:-97.3327621,32.4019333
END:VEVENT
BEGIN:VEVENT
DTSTART;TZID=America/Chicago:20290811T090000
DTEND;TZID=America/Chicago:20290811T103000
DTSTAMP:20260421T180119
CREATED:20240311T143721Z
LAST-MODIFIED:20250220T195950Z
UID:10017516-1881133200-1881138600@883thejourney.org
SUMMARY:Coffee Talk Women's Ministries
DESCRIPTION:Coffee Talk Women’s Ministries meets every second Saturday from 9 to 10:30am at Calvary Church in Ft. Worth. Everyone is welcome for a free breakfast.
URL:https://883thejourney.org/event/coffee-talk-womens-ministries/2029-08-11/
LOCATION:Calvary Church\, 700 McPherson Road\, Fort Worth\, 76140
ORGANIZER;CN="Tracy Shakespeare-Branch":MAILTO:traclight444@aol.com
GEO:32.6040093;-97.2893073
X-APPLE-STRUCTURED-LOCATION;VALUE=URI;X-ADDRESS=Calvary Church 700 McPherson Road Fort Worth 76140;X-APPLE-RADIUS=500;X-TITLE=700 McPherson Road:geo:-97.2893073,32.6040093
END:VEVENT
BEGIN:VEVENT
DTSTART;TZID=America/Chicago:20290814T163000
DTEND;TZID=America/Chicago:20290814T180000
DTSTAMP:20260421T180119
CREATED:20240617T153359Z
LAST-MODIFIED:20240617T153359Z
UID:10018558-1881419400-1881424800@883thejourney.org
SUMMARY:Godley Caregiver Support Group
DESCRIPTION:Alzheimer’s Association support groups provide emotional\, eductional and social support for caregivers thrugh regularly scheduled meetings. Participants learn to develop coping methods and maintain their personal\, physical\, and emotional health.
URL:https://883thejourney.org/event/godley-caregiver-support-group-2/2029-08-14/
LOCATION:Austin County State Bank\, 401 N Highway 171\, Godley\, 76044
CATEGORIES:Community Events
GEO:32.4474557;-97.5330591
X-APPLE-STRUCTURED-LOCATION;VALUE=URI;X-ADDRESS=Austin County State Bank 401 N Highway 171 Godley 76044;X-APPLE-RADIUS=500;X-TITLE=401 N Highway 171:geo:-97.5330591,32.4474557
END:VEVENT
BEGIN:VEVENT
DTSTART;TZID=America/Chicago:20290817T200000
DTEND;TZID=America/Chicago:20290817T223000
DTSTAMP:20260421T180119
CREATED:20230531T152455Z
LAST-MODIFIED:20240129T135601Z
UID:10016852-1881691200-1881700200@883thejourney.org
SUMMARY:Thomsen Observatory
DESCRIPTION:(weather permitting) Look through telescopes and equipment scientists use to study the stars and planets. Plan a star watching party with friends or schedule a tour. But the observatory is open every 1st and 3rd Friday nights of the month. Just bring some bug spray!
URL:https://883thejourney.org/event/thomsen-observatory-2/2029-08-17/
LOCATION:Thomsen Observatory\, 425 Linden St\, Keene\, TX\, 76059\, United States
GEO:32.4019333;-97.3327621
X-APPLE-STRUCTURED-LOCATION;VALUE=URI;X-ADDRESS=Thomsen Observatory 425 Linden St Keene TX 76059 United States;X-APPLE-RADIUS=500;X-TITLE=425 Linden St:geo:-97.3327621,32.4019333
END:VEVENT
BEGIN:VEVENT
DTSTART;TZID=America/Chicago:20290831T060000
DTEND;TZID=America/Chicago:20290831T073000
DTSTAMP:20260421T180119
CREATED:20260302T203009Z
LAST-MODIFIED:20260302T203158Z
UID:10020614-1882850400-1882855800@883thejourney.org
SUMMARY:Women's Abide Gathering
DESCRIPTION:Come enjoy coffee\, community\, and meaningful conversation as we grow together!!!  Rooted in faith. Growing in wholeness. All women welcome—no matter where you’re at in your journey!\n\n\n\n\n\n Flying Squirrel Coffee Company\n216 E Main St\, Crowley\, TX 76036
URL:https://883thejourney.org/event/womens-abide-gathering/2029-08-31/
LOCATION:Flying Squirrell Coffee Company\, 216 E Main St\, Crowley\, TX\, 76036
GEO:32.5781455;-97.3571208
X-APPLE-STRUCTURED-LOCATION;VALUE=URI;X-ADDRESS=Flying Squirrell Coffee Company 216 E Main St Crowley TX 76036;X-APPLE-RADIUS=500;X-TITLE=216 E Main St:geo:-97.3571208,32.5781455
END:VEVENT
BEGIN:VEVENT
DTSTART;TZID=America/Chicago:20290906T130000
DTEND;TZID=America/Chicago:20290906T150000
DTSTAMP:20260421T180119
CREATED:20230515T191538Z
LAST-MODIFIED:20230515T191538Z
UID:10016869-1883394000-1883401200@883thejourney.org
SUMMARY:Volunteer at Senior Food Share
DESCRIPTION:Come volunteer and help serve the senior citizens in our community with our monthly Senior share Food Bank.\nPlease arrive by noon.
URL:https://883thejourney.org/event/volunteer-at-senior-food-share/2029-09-06/
LOCATION:The Annex\, 207 E First Street\, Keene\, 76059
ATTACH;FMTTYPE=image/jpeg:https://883thejourney.org/wp-content/uploads/2023/05/Senior-Food-Share.jpg
GEO:32.3949727;-97.3235144
X-APPLE-STRUCTURED-LOCATION;VALUE=URI;X-ADDRESS=The Annex 207 E First Street Keene 76059;X-APPLE-RADIUS=500;X-TITLE=207 E First Street:geo:-97.3235144,32.3949727
END:VEVENT
BEGIN:VEVENT
DTSTART;TZID=America/Chicago:20290907T200000
DTEND;TZID=America/Chicago:20290907T220000
DTSTAMP:20260421T180119
CREATED:20230531T152337Z
LAST-MODIFIED:20230531T152337Z
UID:10016904-1883505600-1883512800@883thejourney.org
SUMMARY:Thomsen Observatory
DESCRIPTION:Look through telescopes and equipment scientists use to study the stars and planets. Plan a star watching party with friends or schedule a tour. But the observatory is open every 1st and 3rd Friday nights of the month. Just bring some bug spray!
URL:https://883thejourney.org/event/thomsen-observatory/2029-09-07/
LOCATION:Thomsen Observatory\, 425 Linden St\, Keene\, TX\, 76059\, United States
GEO:32.4019333;-97.3327621
X-APPLE-STRUCTURED-LOCATION;VALUE=URI;X-ADDRESS=Thomsen Observatory 425 Linden St Keene TX 76059 United States;X-APPLE-RADIUS=500;X-TITLE=425 Linden St:geo:-97.3327621,32.4019333
END:VEVENT
BEGIN:VEVENT
DTSTART;TZID=America/Chicago:20290908T090000
DTEND;TZID=America/Chicago:20290908T103000
DTSTAMP:20260421T180119
CREATED:20240311T143721Z
LAST-MODIFIED:20250220T195950Z
UID:10017517-1883552400-1883557800@883thejourney.org
SUMMARY:Coffee Talk Women's Ministries
DESCRIPTION:Coffee Talk Women’s Ministries meets every second Saturday from 9 to 10:30am at Calvary Church in Ft. Worth. Everyone is welcome for a free breakfast.
URL:https://883thejourney.org/event/coffee-talk-womens-ministries/2029-09-08/
LOCATION:Calvary Church\, 700 McPherson Road\, Fort Worth\, 76140
ORGANIZER;CN="Tracy Shakespeare-Branch":MAILTO:traclight444@aol.com
GEO:32.6040093;-97.2893073
X-APPLE-STRUCTURED-LOCATION;VALUE=URI;X-ADDRESS=Calvary Church 700 McPherson Road Fort Worth 76140;X-APPLE-RADIUS=500;X-TITLE=700 McPherson Road:geo:-97.2893073,32.6040093
END:VEVENT
BEGIN:VEVENT
DTSTART;TZID=America/Chicago:20290911T163000
DTEND;TZID=America/Chicago:20290911T180000
DTSTAMP:20260421T180119
CREATED:20240617T153359Z
LAST-MODIFIED:20240617T153359Z
UID:10018559-1883838600-1883844000@883thejourney.org
SUMMARY:Godley Caregiver Support Group
DESCRIPTION:Alzheimer’s Association support groups provide emotional\, eductional and social support for caregivers thrugh regularly scheduled meetings. Participants learn to develop coping methods and maintain their personal\, physical\, and emotional health.
URL:https://883thejourney.org/event/godley-caregiver-support-group-2/2029-09-11/
LOCATION:Austin County State Bank\, 401 N Highway 171\, Godley\, 76044
CATEGORIES:Community Events
GEO:32.4474557;-97.5330591
X-APPLE-STRUCTURED-LOCATION;VALUE=URI;X-ADDRESS=Austin County State Bank 401 N Highway 171 Godley 76044;X-APPLE-RADIUS=500;X-TITLE=401 N Highway 171:geo:-97.5330591,32.4474557
END:VEVENT
BEGIN:VEVENT
DTSTART;TZID=America/Chicago:20290921T200000
DTEND;TZID=America/Chicago:20290921T223000
DTSTAMP:20260421T180119
CREATED:20230531T152455Z
LAST-MODIFIED:20240129T135601Z
UID:10016915-1884715200-1884724200@883thejourney.org
SUMMARY:Thomsen Observatory
DESCRIPTION:(weather permitting) Look through telescopes and equipment scientists use to study the stars and planets. Plan a star watching party with friends or schedule a tour. But the observatory is open every 1st and 3rd Friday nights of the month. Just bring some bug spray!
URL:https://883thejourney.org/event/thomsen-observatory-2/2029-09-21/
LOCATION:Thomsen Observatory\, 425 Linden St\, Keene\, TX\, 76059\, United States
GEO:32.4019333;-97.3327621
X-APPLE-STRUCTURED-LOCATION;VALUE=URI;X-ADDRESS=Thomsen Observatory 425 Linden St Keene TX 76059 United States;X-APPLE-RADIUS=500;X-TITLE=425 Linden St:geo:-97.3327621,32.4019333
END:VEVENT
BEGIN:VEVENT
DTSTART;TZID=America/Chicago:20290928T060000
DTEND;TZID=America/Chicago:20290928T073000
DTSTAMP:20260421T180119
CREATED:20260302T203009Z
LAST-MODIFIED:20260302T203158Z
UID:10020615-1885269600-1885275000@883thejourney.org
SUMMARY:Women's Abide Gathering
DESCRIPTION:Come enjoy coffee\, community\, and meaningful conversation as we grow together!!!  Rooted in faith. Growing in wholeness. All women welcome—no matter where you’re at in your journey!\n\n\n\n\n\n Flying Squirrel Coffee Company\n216 E Main St\, Crowley\, TX 76036
URL:https://883thejourney.org/event/womens-abide-gathering/2029-09-28/
LOCATION:Flying Squirrell Coffee Company\, 216 E Main St\, Crowley\, TX\, 76036
GEO:32.5781455;-97.3571208
X-APPLE-STRUCTURED-LOCATION;VALUE=URI;X-ADDRESS=Flying Squirrell Coffee Company 216 E Main St Crowley TX 76036;X-APPLE-RADIUS=500;X-TITLE=216 E Main St:geo:-97.3571208,32.5781455
END:VEVENT
BEGIN:VEVENT
DTSTART;TZID=America/Chicago:20291004T130000
DTEND;TZID=America/Chicago:20291004T150000
DTSTAMP:20260421T180119
CREATED:20230515T191538Z
LAST-MODIFIED:20230515T191538Z
UID:10016901-1885813200-1885820400@883thejourney.org
SUMMARY:Volunteer at Senior Food Share
DESCRIPTION:Come volunteer and help serve the senior citizens in our community with our monthly Senior share Food Bank.\nPlease arrive by noon.
URL:https://883thejourney.org/event/volunteer-at-senior-food-share/2029-10-04/
LOCATION:The Annex\, 207 E First Street\, Keene\, 76059
ATTACH;FMTTYPE=image/jpeg:https://883thejourney.org/wp-content/uploads/2023/05/Senior-Food-Share.jpg
GEO:32.3949727;-97.3235144
X-APPLE-STRUCTURED-LOCATION;VALUE=URI;X-ADDRESS=The Annex 207 E First Street Keene 76059;X-APPLE-RADIUS=500;X-TITLE=207 E First Street:geo:-97.3235144,32.3949727
END:VEVENT
BEGIN:VEVENT
DTSTART;TZID=America/Chicago:20291005T200000
DTEND;TZID=America/Chicago:20291005T220000
DTSTAMP:20260421T180119
CREATED:20230531T152337Z
LAST-MODIFIED:20230531T152337Z
UID:10016905-1885924800-1885932000@883thejourney.org
SUMMARY:Thomsen Observatory
DESCRIPTION:Look through telescopes and equipment scientists use to study the stars and planets. Plan a star watching party with friends or schedule a tour. But the observatory is open every 1st and 3rd Friday nights of the month. Just bring some bug spray!
URL:https://883thejourney.org/event/thomsen-observatory/2029-10-05/
LOCATION:Thomsen Observatory\, 425 Linden St\, Keene\, TX\, 76059\, United States
GEO:32.4019333;-97.3327621
X-APPLE-STRUCTURED-LOCATION;VALUE=URI;X-ADDRESS=Thomsen Observatory 425 Linden St Keene TX 76059 United States;X-APPLE-RADIUS=500;X-TITLE=425 Linden St:geo:-97.3327621,32.4019333
END:VEVENT
BEGIN:VEVENT
DTSTART;TZID=America/Chicago:20291009T163000
DTEND;TZID=America/Chicago:20291009T180000
DTSTAMP:20260421T180119
CREATED:20240617T153359Z
LAST-MODIFIED:20240617T153359Z
UID:10018560-1886257800-1886263200@883thejourney.org
SUMMARY:Godley Caregiver Support Group
DESCRIPTION:Alzheimer’s Association support groups provide emotional\, eductional and social support for caregivers thrugh regularly scheduled meetings. Participants learn to develop coping methods and maintain their personal\, physical\, and emotional health.
URL:https://883thejourney.org/event/godley-caregiver-support-group-2/2029-10-09/
LOCATION:Austin County State Bank\, 401 N Highway 171\, Godley\, 76044
CATEGORIES:Community Events
GEO:32.4474557;-97.5330591
X-APPLE-STRUCTURED-LOCATION;VALUE=URI;X-ADDRESS=Austin County State Bank 401 N Highway 171 Godley 76044;X-APPLE-RADIUS=500;X-TITLE=401 N Highway 171:geo:-97.5330591,32.4474557
END:VEVENT
BEGIN:VEVENT
DTSTART;TZID=America/Chicago:20291013T090000
DTEND;TZID=America/Chicago:20291013T103000
DTSTAMP:20260421T180119
CREATED:20240311T143721Z
LAST-MODIFIED:20250220T195950Z
UID:10017518-1886576400-1886581800@883thejourney.org
SUMMARY:Coffee Talk Women's Ministries
DESCRIPTION:Coffee Talk Women’s Ministries meets every second Saturday from 9 to 10:30am at Calvary Church in Ft. Worth. Everyone is welcome for a free breakfast.
URL:https://883thejourney.org/event/coffee-talk-womens-ministries/2029-10-13/
LOCATION:Calvary Church\, 700 McPherson Road\, Fort Worth\, 76140
ORGANIZER;CN="Tracy Shakespeare-Branch":MAILTO:traclight444@aol.com
GEO:32.6040093;-97.2893073
X-APPLE-STRUCTURED-LOCATION;VALUE=URI;X-ADDRESS=Calvary Church 700 McPherson Road Fort Worth 76140;X-APPLE-RADIUS=500;X-TITLE=700 McPherson Road:geo:-97.2893073,32.6040093
END:VEVENT
BEGIN:VEVENT
DTSTART;TZID=America/Chicago:20291019T200000
DTEND;TZID=America/Chicago:20291019T223000
DTSTAMP:20260421T180119
CREATED:20230531T152455Z
LAST-MODIFIED:20240129T135601Z
UID:10016916-1887134400-1887143400@883thejourney.org
SUMMARY:Thomsen Observatory
DESCRIPTION:(weather permitting) Look through telescopes and equipment scientists use to study the stars and planets. Plan a star watching party with friends or schedule a tour. But the observatory is open every 1st and 3rd Friday nights of the month. Just bring some bug spray!
URL:https://883thejourney.org/event/thomsen-observatory-2/2029-10-19/
LOCATION:Thomsen Observatory\, 425 Linden St\, Keene\, TX\, 76059\, United States
GEO:32.4019333;-97.3327621
X-APPLE-STRUCTURED-LOCATION;VALUE=URI;X-ADDRESS=Thomsen Observatory 425 Linden St Keene TX 76059 United States;X-APPLE-RADIUS=500;X-TITLE=425 Linden St:geo:-97.3327621,32.4019333
END:VEVENT
BEGIN:VEVENT
DTSTART;TZID=America/Chicago:20291026T060000
DTEND;TZID=America/Chicago:20291026T073000
DTSTAMP:20260421T180119
CREATED:20260302T203009Z
LAST-MODIFIED:20260302T203158Z
UID:10020616-1887688800-1887694200@883thejourney.org
SUMMARY:Women's Abide Gathering
DESCRIPTION:Come enjoy coffee\, community\, and meaningful conversation as we grow together!!!  Rooted in faith. Growing in wholeness. All women welcome—no matter where you’re at in your journey!\n\n\n\n\n\n Flying Squirrel Coffee Company\n216 E Main St\, Crowley\, TX 76036
URL:https://883thejourney.org/event/womens-abide-gathering/2029-10-26/
LOCATION:Flying Squirrell Coffee Company\, 216 E Main St\, Crowley\, TX\, 76036
GEO:32.5781455;-97.3571208
X-APPLE-STRUCTURED-LOCATION;VALUE=URI;X-ADDRESS=Flying Squirrell Coffee Company 216 E Main St Crowley TX 76036;X-APPLE-RADIUS=500;X-TITLE=216 E Main St:geo:-97.3571208,32.5781455
END:VEVENT
BEGIN:VEVENT
DTSTART;TZID=America/Chicago:20291101T130000
DTEND;TZID=America/Chicago:20291101T150000
DTSTAMP:20260421T180119
CREATED:20230515T191538Z
LAST-MODIFIED:20230515T191538Z
UID:10017448-1888232400-1888239600@883thejourney.org
SUMMARY:Volunteer at Senior Food Share
DESCRIPTION:Come volunteer and help serve the senior citizens in our community with our monthly Senior share Food Bank.\nPlease arrive by noon.
URL:https://883thejourney.org/event/volunteer-at-senior-food-share/2029-11-01/
LOCATION:The Annex\, 207 E First Street\, Keene\, 76059
ATTACH;FMTTYPE=image/jpeg:https://883thejourney.org/wp-content/uploads/2023/05/Senior-Food-Share.jpg
GEO:32.3949727;-97.3235144
X-APPLE-STRUCTURED-LOCATION;VALUE=URI;X-ADDRESS=The Annex 207 E First Street Keene 76059;X-APPLE-RADIUS=500;X-TITLE=207 E First Street:geo:-97.3235144,32.3949727
END:VEVENT
BEGIN:VEVENT
DTSTART;TZID=America/Chicago:20291102T200000
DTEND;TZID=America/Chicago:20291102T220000
DTSTAMP:20260421T180119
CREATED:20230531T152337Z
LAST-MODIFIED:20230531T152337Z
UID:10017449-1888344000-1888351200@883thejourney.org
SUMMARY:Thomsen Observatory
DESCRIPTION:Look through telescopes and equipment scientists use to study the stars and planets. Plan a star watching party with friends or schedule a tour. But the observatory is open every 1st and 3rd Friday nights of the month. Just bring some bug spray!
URL:https://883thejourney.org/event/thomsen-observatory/2029-11-02/
LOCATION:Thomsen Observatory\, 425 Linden St\, Keene\, TX\, 76059\, United States
GEO:32.4019333;-97.3327621
X-APPLE-STRUCTURED-LOCATION;VALUE=URI;X-ADDRESS=Thomsen Observatory 425 Linden St Keene TX 76059 United States;X-APPLE-RADIUS=500;X-TITLE=425 Linden St:geo:-97.3327621,32.4019333
END:VEVENT
BEGIN:VEVENT
DTSTART;TZID=America/Chicago:20291110T090000
DTEND;TZID=America/Chicago:20291110T103000
DTSTAMP:20260421T180119
CREATED:20240311T143721Z
LAST-MODIFIED:20250220T195950Z
UID:10017519-1888995600-1889001000@883thejourney.org
SUMMARY:Coffee Talk Women's Ministries
DESCRIPTION:Coffee Talk Women’s Ministries meets every second Saturday from 9 to 10:30am at Calvary Church in Ft. Worth. Everyone is welcome for a free breakfast.
URL:https://883thejourney.org/event/coffee-talk-womens-ministries/2029-11-10/
LOCATION:Calvary Church\, 700 McPherson Road\, Fort Worth\, 76140
ORGANIZER;CN="Tracy Shakespeare-Branch":MAILTO:traclight444@aol.com
GEO:32.6040093;-97.2893073
X-APPLE-STRUCTURED-LOCATION;VALUE=URI;X-ADDRESS=Calvary Church 700 McPherson Road Fort Worth 76140;X-APPLE-RADIUS=500;X-TITLE=700 McPherson Road:geo:-97.2893073,32.6040093
END:VEVENT
END:VCALENDAR