BEGIN:VCALENDAR
VERSION:2.0
PRODID:-//88.3 The Journey - ECPv6.15.20//NONSGML v1.0//EN
CALSCALE:GREGORIAN
METHOD:PUBLISH
X-WR-CALNAME:88.3 The Journey
X-ORIGINAL-URL:https://883thejourney.org
X-WR-CALDESC:Events for 88.3 The Journey
REFRESH-INTERVAL;VALUE=DURATION:PT1H
X-Robots-Tag:noindex
X-PUBLISHED-TTL:PT1H
BEGIN:VTIMEZONE
TZID:America/Chicago
BEGIN:DAYLIGHT
TZOFFSETFROM:-0600
TZOFFSETTO:-0500
TZNAME:CDT
DTSTART:20280312T080000
END:DAYLIGHT
BEGIN:STANDARD
TZOFFSETFROM:-0500
TZOFFSETTO:-0600
TZNAME:CST
DTSTART:20281105T070000
END:STANDARD
BEGIN:DAYLIGHT
TZOFFSETFROM:-0600
TZOFFSETTO:-0500
TZNAME:CDT
DTSTART:20290311T080000
END:DAYLIGHT
BEGIN:STANDARD
TZOFFSETFROM:-0500
TZOFFSETTO:-0600
TZNAME:CST
DTSTART:20291104T070000
END:STANDARD
BEGIN:DAYLIGHT
TZOFFSETFROM:-0600
TZOFFSETTO:-0500
TZNAME:CDT
DTSTART:20300310T080000
END:DAYLIGHT
BEGIN:STANDARD
TZOFFSETFROM:-0500
TZOFFSETTO:-0600
TZNAME:CST
DTSTART:20301103T070000
END:STANDARD
BEGIN:DAYLIGHT
TZOFFSETFROM:-0600
TZOFFSETTO:-0500
TZNAME:CDT
DTSTART:20310309T080000
END:DAYLIGHT
BEGIN:STANDARD
TZOFFSETFROM:-0500
TZOFFSETTO:-0600
TZNAME:CST
DTSTART:20311102T070000
END:STANDARD
END:VTIMEZONE
BEGIN:VEVENT
DTSTART;TZID=America/Chicago:20291026T060000
DTEND;TZID=America/Chicago:20291026T073000
DTSTAMP:20260421T204155
CREATED:20260302T203009Z
LAST-MODIFIED:20260302T203158Z
UID:10020616-1887688800-1887694200@883thejourney.org
SUMMARY:Women's Abide Gathering
DESCRIPTION:Come enjoy coffee\, community\, and meaningful conversation as we grow together!!!  Rooted in faith. Growing in wholeness. All women welcome—no matter where you’re at in your journey!\n\n\n\n\n\n Flying Squirrel Coffee Company\n216 E Main St\, Crowley\, TX 76036
URL:https://883thejourney.org/event/womens-abide-gathering/2029-10-26/
LOCATION:Flying Squirrell Coffee Company\, 216 E Main St\, Crowley\, TX\, 76036
GEO:32.5781455;-97.3571208
X-APPLE-STRUCTURED-LOCATION;VALUE=URI;X-ADDRESS=Flying Squirrell Coffee Company 216 E Main St Crowley TX 76036;X-APPLE-RADIUS=500;X-TITLE=216 E Main St:geo:-97.3571208,32.5781455
END:VEVENT
BEGIN:VEVENT
DTSTART;TZID=America/Chicago:20291101T130000
DTEND;TZID=America/Chicago:20291101T150000
DTSTAMP:20260421T204155
CREATED:20230515T191538Z
LAST-MODIFIED:20230515T191538Z
UID:10017448-1888232400-1888239600@883thejourney.org
SUMMARY:Volunteer at Senior Food Share
DESCRIPTION:Come volunteer and help serve the senior citizens in our community with our monthly Senior share Food Bank.\nPlease arrive by noon.
URL:https://883thejourney.org/event/volunteer-at-senior-food-share/2029-11-01/
LOCATION:The Annex\, 207 E First Street\, Keene\, 76059
ATTACH;FMTTYPE=image/jpeg:https://883thejourney.org/wp-content/uploads/2023/05/Senior-Food-Share.jpg
GEO:32.3949727;-97.3235144
X-APPLE-STRUCTURED-LOCATION;VALUE=URI;X-ADDRESS=The Annex 207 E First Street Keene 76059;X-APPLE-RADIUS=500;X-TITLE=207 E First Street:geo:-97.3235144,32.3949727
END:VEVENT
BEGIN:VEVENT
DTSTART;TZID=America/Chicago:20291102T200000
DTEND;TZID=America/Chicago:20291102T220000
DTSTAMP:20260421T204155
CREATED:20230531T152337Z
LAST-MODIFIED:20230531T152337Z
UID:10017449-1888344000-1888351200@883thejourney.org
SUMMARY:Thomsen Observatory
DESCRIPTION:Look through telescopes and equipment scientists use to study the stars and planets. Plan a star watching party with friends or schedule a tour. But the observatory is open every 1st and 3rd Friday nights of the month. Just bring some bug spray!
URL:https://883thejourney.org/event/thomsen-observatory/2029-11-02/
LOCATION:Thomsen Observatory\, 425 Linden St\, Keene\, TX\, 76059\, United States
GEO:32.4019333;-97.3327621
X-APPLE-STRUCTURED-LOCATION;VALUE=URI;X-ADDRESS=Thomsen Observatory 425 Linden St Keene TX 76059 United States;X-APPLE-RADIUS=500;X-TITLE=425 Linden St:geo:-97.3327621,32.4019333
END:VEVENT
BEGIN:VEVENT
DTSTART;TZID=America/Chicago:20291110T090000
DTEND;TZID=America/Chicago:20291110T103000
DTSTAMP:20260421T204155
CREATED:20240311T143721Z
LAST-MODIFIED:20250220T195950Z
UID:10017519-1888995600-1889001000@883thejourney.org
SUMMARY:Coffee Talk Women's Ministries
DESCRIPTION:Coffee Talk Women’s Ministries meets every second Saturday from 9 to 10:30am at Calvary Church in Ft. Worth. Everyone is welcome for a free breakfast.
URL:https://883thejourney.org/event/coffee-talk-womens-ministries/2029-11-10/
LOCATION:Calvary Church\, 700 McPherson Road\, Fort Worth\, 76140
ORGANIZER;CN="Tracy Shakespeare-Branch":MAILTO:traclight444@aol.com
GEO:32.6040093;-97.2893073
X-APPLE-STRUCTURED-LOCATION;VALUE=URI;X-ADDRESS=Calvary Church 700 McPherson Road Fort Worth 76140;X-APPLE-RADIUS=500;X-TITLE=700 McPherson Road:geo:-97.2893073,32.6040093
END:VEVENT
BEGIN:VEVENT
DTSTART;TZID=America/Chicago:20291113T163000
DTEND;TZID=America/Chicago:20291113T180000
DTSTAMP:20260421T204155
CREATED:20240617T153359Z
LAST-MODIFIED:20240617T153359Z
UID:10018561-1889281800-1889287200@883thejourney.org
SUMMARY:Godley Caregiver Support Group
DESCRIPTION:Alzheimer’s Association support groups provide emotional\, eductional and social support for caregivers thrugh regularly scheduled meetings. Participants learn to develop coping methods and maintain their personal\, physical\, and emotional health.
URL:https://883thejourney.org/event/godley-caregiver-support-group-2/2029-11-13/
LOCATION:Austin County State Bank\, 401 N Highway 171\, Godley\, 76044
CATEGORIES:Community Events
GEO:32.4474557;-97.5330591
X-APPLE-STRUCTURED-LOCATION;VALUE=URI;X-ADDRESS=Austin County State Bank 401 N Highway 171 Godley 76044;X-APPLE-RADIUS=500;X-TITLE=401 N Highway 171:geo:-97.5330591,32.4474557
END:VEVENT
BEGIN:VEVENT
DTSTART;TZID=America/Chicago:20291116T200000
DTEND;TZID=America/Chicago:20291116T223000
DTSTAMP:20260421T204155
CREATED:20230531T152455Z
LAST-MODIFIED:20240129T135601Z
UID:10017461-1889553600-1889562600@883thejourney.org
SUMMARY:Thomsen Observatory
DESCRIPTION:(weather permitting) Look through telescopes and equipment scientists use to study the stars and planets. Plan a star watching party with friends or schedule a tour. But the observatory is open every 1st and 3rd Friday nights of the month. Just bring some bug spray!
URL:https://883thejourney.org/event/thomsen-observatory-2/2029-11-16/
LOCATION:Thomsen Observatory\, 425 Linden St\, Keene\, TX\, 76059\, United States
GEO:32.4019333;-97.3327621
X-APPLE-STRUCTURED-LOCATION;VALUE=URI;X-ADDRESS=Thomsen Observatory 425 Linden St Keene TX 76059 United States;X-APPLE-RADIUS=500;X-TITLE=425 Linden St:geo:-97.3327621,32.4019333
END:VEVENT
BEGIN:VEVENT
DTSTART;TZID=America/Chicago:20291130T060000
DTEND;TZID=America/Chicago:20291130T073000
DTSTAMP:20260421T204155
CREATED:20260302T203009Z
LAST-MODIFIED:20260302T203158Z
UID:10020617-1890712800-1890718200@883thejourney.org
SUMMARY:Women's Abide Gathering
DESCRIPTION:Come enjoy coffee\, community\, and meaningful conversation as we grow together!!!  Rooted in faith. Growing in wholeness. All women welcome—no matter where you’re at in your journey!\n\n\n\n\n\n Flying Squirrel Coffee Company\n216 E Main St\, Crowley\, TX 76036
URL:https://883thejourney.org/event/womens-abide-gathering/2029-11-30/
LOCATION:Flying Squirrell Coffee Company\, 216 E Main St\, Crowley\, TX\, 76036
GEO:32.5781455;-97.3571208
X-APPLE-STRUCTURED-LOCATION;VALUE=URI;X-ADDRESS=Flying Squirrell Coffee Company 216 E Main St Crowley TX 76036;X-APPLE-RADIUS=500;X-TITLE=216 E Main St:geo:-97.3571208,32.5781455
END:VEVENT
BEGIN:VEVENT
DTSTART;TZID=America/Chicago:20291206T130000
DTEND;TZID=America/Chicago:20291206T150000
DTSTAMP:20260421T204155
CREATED:20230515T191538Z
LAST-MODIFIED:20230515T191538Z
UID:10017475-1891256400-1891263600@883thejourney.org
SUMMARY:Volunteer at Senior Food Share
DESCRIPTION:Come volunteer and help serve the senior citizens in our community with our monthly Senior share Food Bank.\nPlease arrive by noon.
URL:https://883thejourney.org/event/volunteer-at-senior-food-share/2029-12-06/
LOCATION:The Annex\, 207 E First Street\, Keene\, 76059
ATTACH;FMTTYPE=image/jpeg:https://883thejourney.org/wp-content/uploads/2023/05/Senior-Food-Share.jpg
GEO:32.3949727;-97.3235144
X-APPLE-STRUCTURED-LOCATION;VALUE=URI;X-ADDRESS=The Annex 207 E First Street Keene 76059;X-APPLE-RADIUS=500;X-TITLE=207 E First Street:geo:-97.3235144,32.3949727
END:VEVENT
BEGIN:VEVENT
DTSTART;TZID=America/Chicago:20291207T200000
DTEND;TZID=America/Chicago:20291207T220000
DTSTAMP:20260421T204155
CREATED:20230531T152337Z
LAST-MODIFIED:20230531T152337Z
UID:10017533-1891368000-1891375200@883thejourney.org
SUMMARY:Thomsen Observatory
DESCRIPTION:Look through telescopes and equipment scientists use to study the stars and planets. Plan a star watching party with friends or schedule a tour. But the observatory is open every 1st and 3rd Friday nights of the month. Just bring some bug spray!
URL:https://883thejourney.org/event/thomsen-observatory/2029-12-07/
LOCATION:Thomsen Observatory\, 425 Linden St\, Keene\, TX\, 76059\, United States
GEO:32.4019333;-97.3327621
X-APPLE-STRUCTURED-LOCATION;VALUE=URI;X-ADDRESS=Thomsen Observatory 425 Linden St Keene TX 76059 United States;X-APPLE-RADIUS=500;X-TITLE=425 Linden St:geo:-97.3327621,32.4019333
END:VEVENT
BEGIN:VEVENT
DTSTART;TZID=America/Chicago:20291208T090000
DTEND;TZID=America/Chicago:20291208T103000
DTSTAMP:20260421T204155
CREATED:20240311T143721Z
LAST-MODIFIED:20250220T195950Z
UID:10017520-1891414800-1891420200@883thejourney.org
SUMMARY:Coffee Talk Women's Ministries
DESCRIPTION:Coffee Talk Women’s Ministries meets every second Saturday from 9 to 10:30am at Calvary Church in Ft. Worth. Everyone is welcome for a free breakfast.
URL:https://883thejourney.org/event/coffee-talk-womens-ministries/2029-12-08/
LOCATION:Calvary Church\, 700 McPherson Road\, Fort Worth\, 76140
ORGANIZER;CN="Tracy Shakespeare-Branch":MAILTO:traclight444@aol.com
GEO:32.6040093;-97.2893073
X-APPLE-STRUCTURED-LOCATION;VALUE=URI;X-ADDRESS=Calvary Church 700 McPherson Road Fort Worth 76140;X-APPLE-RADIUS=500;X-TITLE=700 McPherson Road:geo:-97.2893073,32.6040093
END:VEVENT
BEGIN:VEVENT
DTSTART;TZID=America/Chicago:20291211T163000
DTEND;TZID=America/Chicago:20291211T180000
DTSTAMP:20260421T204155
CREATED:20240617T153359Z
LAST-MODIFIED:20240617T153359Z
UID:10018562-1891701000-1891706400@883thejourney.org
SUMMARY:Godley Caregiver Support Group
DESCRIPTION:Alzheimer’s Association support groups provide emotional\, eductional and social support for caregivers thrugh regularly scheduled meetings. Participants learn to develop coping methods and maintain their personal\, physical\, and emotional health.
URL:https://883thejourney.org/event/godley-caregiver-support-group-2/2029-12-11/
LOCATION:Austin County State Bank\, 401 N Highway 171\, Godley\, 76044
CATEGORIES:Community Events
GEO:32.4474557;-97.5330591
X-APPLE-STRUCTURED-LOCATION;VALUE=URI;X-ADDRESS=Austin County State Bank 401 N Highway 171 Godley 76044;X-APPLE-RADIUS=500;X-TITLE=401 N Highway 171:geo:-97.5330591,32.4474557
END:VEVENT
BEGIN:VEVENT
DTSTART;TZID=America/Chicago:20291221T200000
DTEND;TZID=America/Chicago:20291221T223000
DTSTAMP:20260421T204155
CREATED:20230531T152455Z
LAST-MODIFIED:20240129T135601Z
UID:10017537-1892577600-1892586600@883thejourney.org
SUMMARY:Thomsen Observatory
DESCRIPTION:(weather permitting) Look through telescopes and equipment scientists use to study the stars and planets. Plan a star watching party with friends or schedule a tour. But the observatory is open every 1st and 3rd Friday nights of the month. Just bring some bug spray!
URL:https://883thejourney.org/event/thomsen-observatory-2/2029-12-21/
LOCATION:Thomsen Observatory\, 425 Linden St\, Keene\, TX\, 76059\, United States
GEO:32.4019333;-97.3327621
X-APPLE-STRUCTURED-LOCATION;VALUE=URI;X-ADDRESS=Thomsen Observatory 425 Linden St Keene TX 76059 United States;X-APPLE-RADIUS=500;X-TITLE=425 Linden St:geo:-97.3327621,32.4019333
END:VEVENT
BEGIN:VEVENT
DTSTART;TZID=America/Chicago:20291228T060000
DTEND;TZID=America/Chicago:20291228T073000
DTSTAMP:20260421T204155
CREATED:20260302T203009Z
LAST-MODIFIED:20260302T203158Z
UID:10020618-1893132000-1893137400@883thejourney.org
SUMMARY:Women's Abide Gathering
DESCRIPTION:Come enjoy coffee\, community\, and meaningful conversation as we grow together!!!  Rooted in faith. Growing in wholeness. All women welcome—no matter where you’re at in your journey!\n\n\n\n\n\n Flying Squirrel Coffee Company\n216 E Main St\, Crowley\, TX 76036
URL:https://883thejourney.org/event/womens-abide-gathering/2029-12-28/
LOCATION:Flying Squirrell Coffee Company\, 216 E Main St\, Crowley\, TX\, 76036
GEO:32.5781455;-97.3571208
X-APPLE-STRUCTURED-LOCATION;VALUE=URI;X-ADDRESS=Flying Squirrell Coffee Company 216 E Main St Crowley TX 76036;X-APPLE-RADIUS=500;X-TITLE=216 E Main St:geo:-97.3571208,32.5781455
END:VEVENT
BEGIN:VEVENT
DTSTART;TZID=America/Chicago:20300103T130000
DTEND;TZID=America/Chicago:20300103T150000
DTSTAMP:20260421T204155
CREATED:20230515T191538Z
LAST-MODIFIED:20230515T191538Z
UID:10017531-1893675600-1893682800@883thejourney.org
SUMMARY:Volunteer at Senior Food Share
DESCRIPTION:Come volunteer and help serve the senior citizens in our community with our monthly Senior share Food Bank.\nPlease arrive by noon.
URL:https://883thejourney.org/event/volunteer-at-senior-food-share/2030-01-03/
LOCATION:The Annex\, 207 E First Street\, Keene\, 76059
ATTACH;FMTTYPE=image/jpeg:https://883thejourney.org/wp-content/uploads/2023/05/Senior-Food-Share.jpg
GEO:32.3949727;-97.3235144
X-APPLE-STRUCTURED-LOCATION;VALUE=URI;X-ADDRESS=The Annex 207 E First Street Keene 76059;X-APPLE-RADIUS=500;X-TITLE=207 E First Street:geo:-97.3235144,32.3949727
END:VEVENT
BEGIN:VEVENT
DTSTART;TZID=America/Chicago:20300104T200000
DTEND;TZID=America/Chicago:20300104T220000
DTSTAMP:20260421T204155
CREATED:20230531T152337Z
LAST-MODIFIED:20230531T152337Z
UID:10017534-1893787200-1893794400@883thejourney.org
SUMMARY:Thomsen Observatory
DESCRIPTION:Look through telescopes and equipment scientists use to study the stars and planets. Plan a star watching party with friends or schedule a tour. But the observatory is open every 1st and 3rd Friday nights of the month. Just bring some bug spray!
URL:https://883thejourney.org/event/thomsen-observatory/2030-01-04/
LOCATION:Thomsen Observatory\, 425 Linden St\, Keene\, TX\, 76059\, United States
GEO:32.4019333;-97.3327621
X-APPLE-STRUCTURED-LOCATION;VALUE=URI;X-ADDRESS=Thomsen Observatory 425 Linden St Keene TX 76059 United States;X-APPLE-RADIUS=500;X-TITLE=425 Linden St:geo:-97.3327621,32.4019333
END:VEVENT
BEGIN:VEVENT
DTSTART;TZID=America/Chicago:20300108T163000
DTEND;TZID=America/Chicago:20300108T180000
DTSTAMP:20260421T204155
CREATED:20240617T153359Z
LAST-MODIFIED:20240617T153359Z
UID:10018563-1894120200-1894125600@883thejourney.org
SUMMARY:Godley Caregiver Support Group
DESCRIPTION:Alzheimer’s Association support groups provide emotional\, eductional and social support for caregivers thrugh regularly scheduled meetings. Participants learn to develop coping methods and maintain their personal\, physical\, and emotional health.
URL:https://883thejourney.org/event/godley-caregiver-support-group-2/2030-01-08/
LOCATION:Austin County State Bank\, 401 N Highway 171\, Godley\, 76044
CATEGORIES:Community Events
GEO:32.4474557;-97.5330591
X-APPLE-STRUCTURED-LOCATION;VALUE=URI;X-ADDRESS=Austin County State Bank 401 N Highway 171 Godley 76044;X-APPLE-RADIUS=500;X-TITLE=401 N Highway 171:geo:-97.5330591,32.4474557
END:VEVENT
BEGIN:VEVENT
DTSTART;TZID=America/Chicago:20300112T090000
DTEND;TZID=America/Chicago:20300112T103000
DTSTAMP:20260421T204155
CREATED:20240311T143721Z
LAST-MODIFIED:20250220T195950Z
UID:10017521-1894438800-1894444200@883thejourney.org
SUMMARY:Coffee Talk Women's Ministries
DESCRIPTION:Coffee Talk Women’s Ministries meets every second Saturday from 9 to 10:30am at Calvary Church in Ft. Worth. Everyone is welcome for a free breakfast.
URL:https://883thejourney.org/event/coffee-talk-womens-ministries/2030-01-12/
LOCATION:Calvary Church\, 700 McPherson Road\, Fort Worth\, 76140
ORGANIZER;CN="Tracy Shakespeare-Branch":MAILTO:traclight444@aol.com
GEO:32.6040093;-97.2893073
X-APPLE-STRUCTURED-LOCATION;VALUE=URI;X-ADDRESS=Calvary Church 700 McPherson Road Fort Worth 76140;X-APPLE-RADIUS=500;X-TITLE=700 McPherson Road:geo:-97.2893073,32.6040093
END:VEVENT
BEGIN:VEVENT
DTSTART;TZID=America/Chicago:20300118T200000
DTEND;TZID=America/Chicago:20300118T223000
DTSTAMP:20260421T204155
CREATED:20230531T152455Z
LAST-MODIFIED:20240129T135601Z
UID:10017538-1894996800-1895005800@883thejourney.org
SUMMARY:Thomsen Observatory
DESCRIPTION:(weather permitting) Look through telescopes and equipment scientists use to study the stars and planets. Plan a star watching party with friends or schedule a tour. But the observatory is open every 1st and 3rd Friday nights of the month. Just bring some bug spray!
URL:https://883thejourney.org/event/thomsen-observatory-2/2030-01-18/
LOCATION:Thomsen Observatory\, 425 Linden St\, Keene\, TX\, 76059\, United States
GEO:32.4019333;-97.3327621
X-APPLE-STRUCTURED-LOCATION;VALUE=URI;X-ADDRESS=Thomsen Observatory 425 Linden St Keene TX 76059 United States;X-APPLE-RADIUS=500;X-TITLE=425 Linden St:geo:-97.3327621,32.4019333
END:VEVENT
BEGIN:VEVENT
DTSTART;TZID=America/Chicago:20300125T060000
DTEND;TZID=America/Chicago:20300125T073000
DTSTAMP:20260421T204155
CREATED:20260302T203009Z
LAST-MODIFIED:20260302T203158Z
UID:10020619-1895551200-1895556600@883thejourney.org
SUMMARY:Women's Abide Gathering
DESCRIPTION:Come enjoy coffee\, community\, and meaningful conversation as we grow together!!!  Rooted in faith. Growing in wholeness. All women welcome—no matter where you’re at in your journey!\n\n\n\n\n\n Flying Squirrel Coffee Company\n216 E Main St\, Crowley\, TX 76036
URL:https://883thejourney.org/event/womens-abide-gathering/2030-01-25/
LOCATION:Flying Squirrell Coffee Company\, 216 E Main St\, Crowley\, TX\, 76036
GEO:32.5781455;-97.3571208
X-APPLE-STRUCTURED-LOCATION;VALUE=URI;X-ADDRESS=Flying Squirrell Coffee Company 216 E Main St Crowley TX 76036;X-APPLE-RADIUS=500;X-TITLE=216 E Main St:geo:-97.3571208,32.5781455
END:VEVENT
BEGIN:VEVENT
DTSTART;TZID=America/Chicago:20300201T200000
DTEND;TZID=America/Chicago:20300201T220000
DTSTAMP:20260421T204155
CREATED:20230531T152337Z
LAST-MODIFIED:20230531T152337Z
UID:10017535-1896206400-1896213600@883thejourney.org
SUMMARY:Thomsen Observatory
DESCRIPTION:Look through telescopes and equipment scientists use to study the stars and planets. Plan a star watching party with friends or schedule a tour. But the observatory is open every 1st and 3rd Friday nights of the month. Just bring some bug spray!
URL:https://883thejourney.org/event/thomsen-observatory/2030-02-01/
LOCATION:Thomsen Observatory\, 425 Linden St\, Keene\, TX\, 76059\, United States
GEO:32.4019333;-97.3327621
X-APPLE-STRUCTURED-LOCATION;VALUE=URI;X-ADDRESS=Thomsen Observatory 425 Linden St Keene TX 76059 United States;X-APPLE-RADIUS=500;X-TITLE=425 Linden St:geo:-97.3327621,32.4019333
END:VEVENT
BEGIN:VEVENT
DTSTART;TZID=America/Chicago:20300207T130000
DTEND;TZID=America/Chicago:20300207T150000
DTSTAMP:20260421T204155
CREATED:20230515T191538Z
LAST-MODIFIED:20230515T191538Z
UID:10017532-1896699600-1896706800@883thejourney.org
SUMMARY:Volunteer at Senior Food Share
DESCRIPTION:Come volunteer and help serve the senior citizens in our community with our monthly Senior share Food Bank.\nPlease arrive by noon.
URL:https://883thejourney.org/event/volunteer-at-senior-food-share/2030-02-07/
LOCATION:The Annex\, 207 E First Street\, Keene\, 76059
ATTACH;FMTTYPE=image/jpeg:https://883thejourney.org/wp-content/uploads/2023/05/Senior-Food-Share.jpg
GEO:32.3949727;-97.3235144
X-APPLE-STRUCTURED-LOCATION;VALUE=URI;X-ADDRESS=The Annex 207 E First Street Keene 76059;X-APPLE-RADIUS=500;X-TITLE=207 E First Street:geo:-97.3235144,32.3949727
END:VEVENT
BEGIN:VEVENT
DTSTART;TZID=America/Chicago:20300209T090000
DTEND;TZID=America/Chicago:20300209T103000
DTSTAMP:20260421T204155
CREATED:20240311T143721Z
LAST-MODIFIED:20250220T195950Z
UID:10017522-1896858000-1896863400@883thejourney.org
SUMMARY:Coffee Talk Women's Ministries
DESCRIPTION:Coffee Talk Women’s Ministries meets every second Saturday from 9 to 10:30am at Calvary Church in Ft. Worth. Everyone is welcome for a free breakfast.
URL:https://883thejourney.org/event/coffee-talk-womens-ministries/2030-02-09/
LOCATION:Calvary Church\, 700 McPherson Road\, Fort Worth\, 76140
ORGANIZER;CN="Tracy Shakespeare-Branch":MAILTO:traclight444@aol.com
GEO:32.6040093;-97.2893073
X-APPLE-STRUCTURED-LOCATION;VALUE=URI;X-ADDRESS=Calvary Church 700 McPherson Road Fort Worth 76140;X-APPLE-RADIUS=500;X-TITLE=700 McPherson Road:geo:-97.2893073,32.6040093
END:VEVENT
BEGIN:VEVENT
DTSTART;TZID=America/Chicago:20300212T163000
DTEND;TZID=America/Chicago:20300212T180000
DTSTAMP:20260421T204155
CREATED:20240617T153359Z
LAST-MODIFIED:20240617T153359Z
UID:10018564-1897144200-1897149600@883thejourney.org
SUMMARY:Godley Caregiver Support Group
DESCRIPTION:Alzheimer’s Association support groups provide emotional\, eductional and social support for caregivers thrugh regularly scheduled meetings. Participants learn to develop coping methods and maintain their personal\, physical\, and emotional health.
URL:https://883thejourney.org/event/godley-caregiver-support-group-2/2030-02-12/
LOCATION:Austin County State Bank\, 401 N Highway 171\, Godley\, 76044
CATEGORIES:Community Events
GEO:32.4474557;-97.5330591
X-APPLE-STRUCTURED-LOCATION;VALUE=URI;X-ADDRESS=Austin County State Bank 401 N Highway 171 Godley 76044;X-APPLE-RADIUS=500;X-TITLE=401 N Highway 171:geo:-97.5330591,32.4474557
END:VEVENT
BEGIN:VEVENT
DTSTART;TZID=America/Chicago:20300215T200000
DTEND;TZID=America/Chicago:20300215T223000
DTSTAMP:20260421T204155
CREATED:20230531T152455Z
LAST-MODIFIED:20240129T135601Z
UID:10017539-1897416000-1897425000@883thejourney.org
SUMMARY:Thomsen Observatory
DESCRIPTION:(weather permitting) Look through telescopes and equipment scientists use to study the stars and planets. Plan a star watching party with friends or schedule a tour. But the observatory is open every 1st and 3rd Friday nights of the month. Just bring some bug spray!
URL:https://883thejourney.org/event/thomsen-observatory-2/2030-02-15/
LOCATION:Thomsen Observatory\, 425 Linden St\, Keene\, TX\, 76059\, United States
GEO:32.4019333;-97.3327621
X-APPLE-STRUCTURED-LOCATION;VALUE=URI;X-ADDRESS=Thomsen Observatory 425 Linden St Keene TX 76059 United States;X-APPLE-RADIUS=500;X-TITLE=425 Linden St:geo:-97.3327621,32.4019333
END:VEVENT
BEGIN:VEVENT
DTSTART;TZID=America/Chicago:20300222T060000
DTEND;TZID=America/Chicago:20300222T073000
DTSTAMP:20260421T204155
CREATED:20260302T203009Z
LAST-MODIFIED:20260302T203158Z
UID:10020620-1897970400-1897975800@883thejourney.org
SUMMARY:Women's Abide Gathering
DESCRIPTION:Come enjoy coffee\, community\, and meaningful conversation as we grow together!!!  Rooted in faith. Growing in wholeness. All women welcome—no matter where you’re at in your journey!\n\n\n\n\n\n Flying Squirrel Coffee Company\n216 E Main St\, Crowley\, TX 76036
URL:https://883thejourney.org/event/womens-abide-gathering/2030-02-22/
LOCATION:Flying Squirrell Coffee Company\, 216 E Main St\, Crowley\, TX\, 76036
GEO:32.5781455;-97.3571208
X-APPLE-STRUCTURED-LOCATION;VALUE=URI;X-ADDRESS=Flying Squirrell Coffee Company 216 E Main St Crowley TX 76036;X-APPLE-RADIUS=500;X-TITLE=216 E Main St:geo:-97.3571208,32.5781455
END:VEVENT
BEGIN:VEVENT
DTSTART;TZID=America/Chicago:20300301T200000
DTEND;TZID=America/Chicago:20300301T220000
DTSTAMP:20260421T204155
CREATED:20230531T152337Z
LAST-MODIFIED:20230531T152337Z
UID:10017536-1898625600-1898632800@883thejourney.org
SUMMARY:Thomsen Observatory
DESCRIPTION:Look through telescopes and equipment scientists use to study the stars and planets. Plan a star watching party with friends or schedule a tour. But the observatory is open every 1st and 3rd Friday nights of the month. Just bring some bug spray!
URL:https://883thejourney.org/event/thomsen-observatory/2030-03-01/
LOCATION:Thomsen Observatory\, 425 Linden St\, Keene\, TX\, 76059\, United States
GEO:32.4019333;-97.3327621
X-APPLE-STRUCTURED-LOCATION;VALUE=URI;X-ADDRESS=Thomsen Observatory 425 Linden St Keene TX 76059 United States;X-APPLE-RADIUS=500;X-TITLE=425 Linden St:geo:-97.3327621,32.4019333
END:VEVENT
BEGIN:VEVENT
DTSTART;TZID=America/Chicago:20300307T130000
DTEND;TZID=America/Chicago:20300307T150000
DTSTAMP:20260421T204155
CREATED:20230515T191538Z
LAST-MODIFIED:20230515T191538Z
UID:10017607-1899118800-1899126000@883thejourney.org
SUMMARY:Volunteer at Senior Food Share
DESCRIPTION:Come volunteer and help serve the senior citizens in our community with our monthly Senior share Food Bank.\nPlease arrive by noon.
URL:https://883thejourney.org/event/volunteer-at-senior-food-share/2030-03-07/
LOCATION:The Annex\, 207 E First Street\, Keene\, 76059
ATTACH;FMTTYPE=image/jpeg:https://883thejourney.org/wp-content/uploads/2023/05/Senior-Food-Share.jpg
GEO:32.3949727;-97.3235144
X-APPLE-STRUCTURED-LOCATION;VALUE=URI;X-ADDRESS=The Annex 207 E First Street Keene 76059;X-APPLE-RADIUS=500;X-TITLE=207 E First Street:geo:-97.3235144,32.3949727
END:VEVENT
BEGIN:VEVENT
DTSTART;TZID=America/Chicago:20300309T090000
DTEND;TZID=America/Chicago:20300309T103000
DTSTAMP:20260421T204155
CREATED:20240311T143721Z
LAST-MODIFIED:20250220T195950Z
UID:10018340-1899277200-1899282600@883thejourney.org
SUMMARY:Coffee Talk Women's Ministries
DESCRIPTION:Coffee Talk Women’s Ministries meets every second Saturday from 9 to 10:30am at Calvary Church in Ft. Worth. Everyone is welcome for a free breakfast.
URL:https://883thejourney.org/event/coffee-talk-womens-ministries/2030-03-09/
LOCATION:Calvary Church\, 700 McPherson Road\, Fort Worth\, 76140
ORGANIZER;CN="Tracy Shakespeare-Branch":MAILTO:traclight444@aol.com
GEO:32.6040093;-97.2893073
X-APPLE-STRUCTURED-LOCATION;VALUE=URI;X-ADDRESS=Calvary Church 700 McPherson Road Fort Worth 76140;X-APPLE-RADIUS=500;X-TITLE=700 McPherson Road:geo:-97.2893073,32.6040093
END:VEVENT
BEGIN:VEVENT
DTSTART;TZID=America/Chicago:20300312T163000
DTEND;TZID=America/Chicago:20300312T180000
DTSTAMP:20260421T204155
CREATED:20240617T153359Z
LAST-MODIFIED:20240617T153359Z
UID:10018565-1899563400-1899568800@883thejourney.org
SUMMARY:Godley Caregiver Support Group
DESCRIPTION:Alzheimer’s Association support groups provide emotional\, eductional and social support for caregivers thrugh regularly scheduled meetings. Participants learn to develop coping methods and maintain their personal\, physical\, and emotional health.
URL:https://883thejourney.org/event/godley-caregiver-support-group-2/2030-03-12/
LOCATION:Austin County State Bank\, 401 N Highway 171\, Godley\, 76044
CATEGORIES:Community Events
GEO:32.4474557;-97.5330591
X-APPLE-STRUCTURED-LOCATION;VALUE=URI;X-ADDRESS=Austin County State Bank 401 N Highway 171 Godley 76044;X-APPLE-RADIUS=500;X-TITLE=401 N Highway 171:geo:-97.5330591,32.4474557
END:VEVENT
BEGIN:VEVENT
DTSTART;TZID=America/Chicago:20300315T200000
DTEND;TZID=America/Chicago:20300315T223000
DTSTAMP:20260421T204155
CREATED:20230531T152455Z
LAST-MODIFIED:20240129T135601Z
UID:10017616-1899835200-1899844200@883thejourney.org
SUMMARY:Thomsen Observatory
DESCRIPTION:(weather permitting) Look through telescopes and equipment scientists use to study the stars and planets. Plan a star watching party with friends or schedule a tour. But the observatory is open every 1st and 3rd Friday nights of the month. Just bring some bug spray!
URL:https://883thejourney.org/event/thomsen-observatory-2/2030-03-15/
LOCATION:Thomsen Observatory\, 425 Linden St\, Keene\, TX\, 76059\, United States
GEO:32.4019333;-97.3327621
X-APPLE-STRUCTURED-LOCATION;VALUE=URI;X-ADDRESS=Thomsen Observatory 425 Linden St Keene TX 76059 United States;X-APPLE-RADIUS=500;X-TITLE=425 Linden St:geo:-97.3327621,32.4019333
END:VEVENT
END:VCALENDAR