BEGIN:VCALENDAR
VERSION:2.0
PRODID:-//88.3 The Journey - ECPv6.15.20//NONSGML v1.0//EN
CALSCALE:GREGORIAN
METHOD:PUBLISH
X-ORIGINAL-URL:https://883thejourney.org
X-WR-CALDESC:Events for 88.3 The Journey
REFRESH-INTERVAL;VALUE=DURATION:PT1H
X-Robots-Tag:noindex
X-PUBLISHED-TTL:PT1H
BEGIN:VTIMEZONE
TZID:America/Chicago
BEGIN:DAYLIGHT
TZOFFSETFROM:-0600
TZOFFSETTO:-0500
TZNAME:CDT
DTSTART:20270314T080000
END:DAYLIGHT
BEGIN:STANDARD
TZOFFSETFROM:-0500
TZOFFSETTO:-0600
TZNAME:CST
DTSTART:20271107T070000
END:STANDARD
BEGIN:DAYLIGHT
TZOFFSETFROM:-0600
TZOFFSETTO:-0500
TZNAME:CDT
DTSTART:20280312T080000
END:DAYLIGHT
BEGIN:STANDARD
TZOFFSETFROM:-0500
TZOFFSETTO:-0600
TZNAME:CST
DTSTART:20281105T070000
END:STANDARD
BEGIN:DAYLIGHT
TZOFFSETFROM:-0600
TZOFFSETTO:-0500
TZNAME:CDT
DTSTART:20290311T080000
END:DAYLIGHT
BEGIN:STANDARD
TZOFFSETFROM:-0500
TZOFFSETTO:-0600
TZNAME:CST
DTSTART:20291104T070000
END:STANDARD
BEGIN:DAYLIGHT
TZOFFSETFROM:-0600
TZOFFSETTO:-0500
TZNAME:CDT
DTSTART:20300310T080000
END:DAYLIGHT
BEGIN:STANDARD
TZOFFSETFROM:-0500
TZOFFSETTO:-0600
TZNAME:CST
DTSTART:20301103T070000
END:STANDARD
END:VTIMEZONE
BEGIN:VEVENT
DTSTART;TZID=America/Chicago:20281111T090000
DTEND;TZID=America/Chicago:20281111T103000
DTSTAMP:20260421T151634
CREATED:20240311T143721Z
LAST-MODIFIED:20250220T195950Z
UID:10014079-1857546000-1857551400@883thejourney.org
SUMMARY:Coffee Talk Women's Ministries
DESCRIPTION:Coffee Talk Women’s Ministries meets every second Saturday from 9 to 10:30am at Calvary Church in Ft. Worth. Everyone is welcome for a free breakfast.
URL:https://883thejourney.org/event/coffee-talk-womens-ministries/2028-11-11/
LOCATION:Calvary Church\, 700 McPherson Road\, Fort Worth\, 76140
ORGANIZER;CN="Tracy Shakespeare-Branch":MAILTO:traclight444@aol.com
GEO:32.6040093;-97.2893073
X-APPLE-STRUCTURED-LOCATION;VALUE=URI;X-ADDRESS=Calvary Church 700 McPherson Road Fort Worth 76140;X-APPLE-RADIUS=500;X-TITLE=700 McPherson Road:geo:-97.2893073,32.6040093
END:VEVENT
BEGIN:VEVENT
DTSTART;TZID=America/Chicago:20281114T163000
DTEND;TZID=America/Chicago:20281114T180000
DTSTAMP:20260421T151634
CREATED:20240617T153359Z
LAST-MODIFIED:20240617T153359Z
UID:10014644-1857832200-1857837600@883thejourney.org
SUMMARY:Godley Caregiver Support Group
DESCRIPTION:Alzheimer’s Association support groups provide emotional\, eductional and social support for caregivers thrugh regularly scheduled meetings. Participants learn to develop coping methods and maintain their personal\, physical\, and emotional health.
URL:https://883thejourney.org/event/godley-caregiver-support-group-2/2028-11-14/
LOCATION:Austin County State Bank\, 401 N Highway 171\, Godley\, 76044
CATEGORIES:Community Events
GEO:32.4474557;-97.5330591
X-APPLE-STRUCTURED-LOCATION;VALUE=URI;X-ADDRESS=Austin County State Bank 401 N Highway 171 Godley 76044;X-APPLE-RADIUS=500;X-TITLE=401 N Highway 171:geo:-97.5330591,32.4474557
END:VEVENT
BEGIN:VEVENT
DTSTART;TZID=America/Chicago:20281117T200000
DTEND;TZID=America/Chicago:20281117T223000
DTSTAMP:20260421T151634
CREATED:20230531T152455Z
LAST-MODIFIED:20240129T135601Z
UID:10016820-1858104000-1858113000@883thejourney.org
SUMMARY:Thomsen Observatory
DESCRIPTION:(weather permitting) Look through telescopes and equipment scientists use to study the stars and planets. Plan a star watching party with friends or schedule a tour. But the observatory is open every 1st and 3rd Friday nights of the month. Just bring some bug spray!
URL:https://883thejourney.org/event/thomsen-observatory-2/2028-11-17/
LOCATION:Thomsen Observatory\, 425 Linden St\, Keene\, TX\, 76059\, United States
GEO:32.4019333;-97.3327621
X-APPLE-STRUCTURED-LOCATION;VALUE=URI;X-ADDRESS=Thomsen Observatory 425 Linden St Keene TX 76059 United States;X-APPLE-RADIUS=500;X-TITLE=425 Linden St:geo:-97.3327621,32.4019333
END:VEVENT
BEGIN:VEVENT
DTSTART;TZID=America/Chicago:20281124T060000
DTEND;TZID=America/Chicago:20281124T073000
DTSTAMP:20260421T151634
CREATED:20260302T203009Z
LAST-MODIFIED:20260302T203158Z
UID:10020605-1858658400-1858663800@883thejourney.org
SUMMARY:Women's Abide Gathering
DESCRIPTION:Come enjoy coffee\, community\, and meaningful conversation as we grow together!!!  Rooted in faith. Growing in wholeness. All women welcome—no matter where you’re at in your journey!\n\n\n\n\n\n Flying Squirrel Coffee Company\n216 E Main St\, Crowley\, TX 76036
URL:https://883thejourney.org/event/womens-abide-gathering/2028-11-24/
LOCATION:Flying Squirrell Coffee Company\, 216 E Main St\, Crowley\, TX\, 76036
GEO:32.5781455;-97.3571208
X-APPLE-STRUCTURED-LOCATION;VALUE=URI;X-ADDRESS=Flying Squirrell Coffee Company 216 E Main St Crowley TX 76036;X-APPLE-RADIUS=500;X-TITLE=216 E Main St:geo:-97.3571208,32.5781455
END:VEVENT
BEGIN:VEVENT
DTSTART;TZID=America/Chicago:20281201T200000
DTEND;TZID=America/Chicago:20281201T220000
DTSTAMP:20260421T151634
CREATED:20230531T152337Z
LAST-MODIFIED:20230531T152337Z
UID:10015518-1859313600-1859320800@883thejourney.org
SUMMARY:Thomsen Observatory
DESCRIPTION:Look through telescopes and equipment scientists use to study the stars and planets. Plan a star watching party with friends or schedule a tour. But the observatory is open every 1st and 3rd Friday nights of the month. Just bring some bug spray!
URL:https://883thejourney.org/event/thomsen-observatory/2028-12-01/
LOCATION:Thomsen Observatory\, 425 Linden St\, Keene\, TX\, 76059\, United States
GEO:32.4019333;-97.3327621
X-APPLE-STRUCTURED-LOCATION;VALUE=URI;X-ADDRESS=Thomsen Observatory 425 Linden St Keene TX 76059 United States;X-APPLE-RADIUS=500;X-TITLE=425 Linden St:geo:-97.3327621,32.4019333
END:VEVENT
BEGIN:VEVENT
DTSTART;TZID=America/Chicago:20281207T130000
DTEND;TZID=America/Chicago:20281207T150000
DTSTAMP:20260421T151634
CREATED:20230515T191538Z
LAST-MODIFIED:20230515T191538Z
UID:10015505-1859806800-1859814000@883thejourney.org
SUMMARY:Volunteer at Senior Food Share
DESCRIPTION:Come volunteer and help serve the senior citizens in our community with our monthly Senior share Food Bank.\nPlease arrive by noon.
URL:https://883thejourney.org/event/volunteer-at-senior-food-share/2028-12-07/
LOCATION:The Annex\, 207 E First Street\, Keene\, 76059
ATTACH;FMTTYPE=image/jpeg:https://883thejourney.org/wp-content/uploads/2023/05/Senior-Food-Share.jpg
GEO:32.3949727;-97.3235144
X-APPLE-STRUCTURED-LOCATION;VALUE=URI;X-ADDRESS=The Annex 207 E First Street Keene 76059;X-APPLE-RADIUS=500;X-TITLE=207 E First Street:geo:-97.3235144,32.3949727
END:VEVENT
BEGIN:VEVENT
DTSTART;TZID=America/Chicago:20281209T090000
DTEND;TZID=America/Chicago:20281209T103000
DTSTAMP:20260421T151634
CREATED:20240311T143721Z
LAST-MODIFIED:20250220T195950Z
UID:10014080-1859965200-1859970600@883thejourney.org
SUMMARY:Coffee Talk Women's Ministries
DESCRIPTION:Coffee Talk Women’s Ministries meets every second Saturday from 9 to 10:30am at Calvary Church in Ft. Worth. Everyone is welcome for a free breakfast.
URL:https://883thejourney.org/event/coffee-talk-womens-ministries/2028-12-09/
LOCATION:Calvary Church\, 700 McPherson Road\, Fort Worth\, 76140
ORGANIZER;CN="Tracy Shakespeare-Branch":MAILTO:traclight444@aol.com
GEO:32.6040093;-97.2893073
X-APPLE-STRUCTURED-LOCATION;VALUE=URI;X-ADDRESS=Calvary Church 700 McPherson Road Fort Worth 76140;X-APPLE-RADIUS=500;X-TITLE=700 McPherson Road:geo:-97.2893073,32.6040093
END:VEVENT
BEGIN:VEVENT
DTSTART;TZID=America/Chicago:20281212T163000
DTEND;TZID=America/Chicago:20281212T180000
DTSTAMP:20260421T151634
CREATED:20240617T153359Z
LAST-MODIFIED:20240617T153359Z
UID:10014645-1860251400-1860256800@883thejourney.org
SUMMARY:Godley Caregiver Support Group
DESCRIPTION:Alzheimer’s Association support groups provide emotional\, eductional and social support for caregivers thrugh regularly scheduled meetings. Participants learn to develop coping methods and maintain their personal\, physical\, and emotional health.
URL:https://883thejourney.org/event/godley-caregiver-support-group-2/2028-12-12/
LOCATION:Austin County State Bank\, 401 N Highway 171\, Godley\, 76044
CATEGORIES:Community Events
GEO:32.4474557;-97.5330591
X-APPLE-STRUCTURED-LOCATION;VALUE=URI;X-ADDRESS=Austin County State Bank 401 N Highway 171 Godley 76044;X-APPLE-RADIUS=500;X-TITLE=401 N Highway 171:geo:-97.5330591,32.4474557
END:VEVENT
BEGIN:VEVENT
DTSTART;TZID=America/Chicago:20281215T200000
DTEND;TZID=America/Chicago:20281215T223000
DTSTAMP:20260421T151634
CREATED:20230531T152455Z
LAST-MODIFIED:20240129T135601Z
UID:10016821-1860523200-1860532200@883thejourney.org
SUMMARY:Thomsen Observatory
DESCRIPTION:(weather permitting) Look through telescopes and equipment scientists use to study the stars and planets. Plan a star watching party with friends or schedule a tour. But the observatory is open every 1st and 3rd Friday nights of the month. Just bring some bug spray!
URL:https://883thejourney.org/event/thomsen-observatory-2/2028-12-15/
LOCATION:Thomsen Observatory\, 425 Linden St\, Keene\, TX\, 76059\, United States
GEO:32.4019333;-97.3327621
X-APPLE-STRUCTURED-LOCATION;VALUE=URI;X-ADDRESS=Thomsen Observatory 425 Linden St Keene TX 76059 United States;X-APPLE-RADIUS=500;X-TITLE=425 Linden St:geo:-97.3327621,32.4019333
END:VEVENT
BEGIN:VEVENT
DTSTART;TZID=America/Chicago:20281229T060000
DTEND;TZID=America/Chicago:20281229T073000
DTSTAMP:20260421T151634
CREATED:20260302T203009Z
LAST-MODIFIED:20260302T203158Z
UID:10020606-1861682400-1861687800@883thejourney.org
SUMMARY:Women's Abide Gathering
DESCRIPTION:Come enjoy coffee\, community\, and meaningful conversation as we grow together!!!  Rooted in faith. Growing in wholeness. All women welcome—no matter where you’re at in your journey!\n\n\n\n\n\n Flying Squirrel Coffee Company\n216 E Main St\, Crowley\, TX 76036
URL:https://883thejourney.org/event/womens-abide-gathering/2028-12-29/
LOCATION:Flying Squirrell Coffee Company\, 216 E Main St\, Crowley\, TX\, 76036
GEO:32.5781455;-97.3571208
X-APPLE-STRUCTURED-LOCATION;VALUE=URI;X-ADDRESS=Flying Squirrell Coffee Company 216 E Main St Crowley TX 76036;X-APPLE-RADIUS=500;X-TITLE=216 E Main St:geo:-97.3571208,32.5781455
END:VEVENT
BEGIN:VEVENT
DTSTART;TZID=America/Chicago:20290104T130000
DTEND;TZID=America/Chicago:20290104T150000
DTSTAMP:20260421T151634
CREATED:20230515T191538Z
LAST-MODIFIED:20230515T191538Z
UID:10015506-1862226000-1862233200@883thejourney.org
SUMMARY:Volunteer at Senior Food Share
DESCRIPTION:Come volunteer and help serve the senior citizens in our community with our monthly Senior share Food Bank.\nPlease arrive by noon.
URL:https://883thejourney.org/event/volunteer-at-senior-food-share/2029-01-04/
LOCATION:The Annex\, 207 E First Street\, Keene\, 76059
ATTACH;FMTTYPE=image/jpeg:https://883thejourney.org/wp-content/uploads/2023/05/Senior-Food-Share.jpg
GEO:32.3949727;-97.3235144
X-APPLE-STRUCTURED-LOCATION;VALUE=URI;X-ADDRESS=The Annex 207 E First Street Keene 76059;X-APPLE-RADIUS=500;X-TITLE=207 E First Street:geo:-97.3235144,32.3949727
END:VEVENT
BEGIN:VEVENT
DTSTART;TZID=America/Chicago:20290105T200000
DTEND;TZID=America/Chicago:20290105T220000
DTSTAMP:20260421T151634
CREATED:20230531T152337Z
LAST-MODIFIED:20230531T152337Z
UID:10015519-1862337600-1862344800@883thejourney.org
SUMMARY:Thomsen Observatory
DESCRIPTION:Look through telescopes and equipment scientists use to study the stars and planets. Plan a star watching party with friends or schedule a tour. But the observatory is open every 1st and 3rd Friday nights of the month. Just bring some bug spray!
URL:https://883thejourney.org/event/thomsen-observatory/2029-01-05/
LOCATION:Thomsen Observatory\, 425 Linden St\, Keene\, TX\, 76059\, United States
GEO:32.4019333;-97.3327621
X-APPLE-STRUCTURED-LOCATION;VALUE=URI;X-ADDRESS=Thomsen Observatory 425 Linden St Keene TX 76059 United States;X-APPLE-RADIUS=500;X-TITLE=425 Linden St:geo:-97.3327621,32.4019333
END:VEVENT
BEGIN:VEVENT
DTSTART;TZID=America/Chicago:20290109T163000
DTEND;TZID=America/Chicago:20290109T180000
DTSTAMP:20260421T151634
CREATED:20240617T153359Z
LAST-MODIFIED:20240617T153359Z
UID:10014646-1862670600-1862676000@883thejourney.org
SUMMARY:Godley Caregiver Support Group
DESCRIPTION:Alzheimer’s Association support groups provide emotional\, eductional and social support for caregivers thrugh regularly scheduled meetings. Participants learn to develop coping methods and maintain their personal\, physical\, and emotional health.
URL:https://883thejourney.org/event/godley-caregiver-support-group-2/2029-01-09/
LOCATION:Austin County State Bank\, 401 N Highway 171\, Godley\, 76044
CATEGORIES:Community Events
GEO:32.4474557;-97.5330591
X-APPLE-STRUCTURED-LOCATION;VALUE=URI;X-ADDRESS=Austin County State Bank 401 N Highway 171 Godley 76044;X-APPLE-RADIUS=500;X-TITLE=401 N Highway 171:geo:-97.5330591,32.4474557
END:VEVENT
BEGIN:VEVENT
DTSTART;TZID=America/Chicago:20290113T090000
DTEND;TZID=America/Chicago:20290113T103000
DTSTAMP:20260421T151634
CREATED:20240311T143721Z
LAST-MODIFIED:20250220T195950Z
UID:10014081-1862989200-1862994600@883thejourney.org
SUMMARY:Coffee Talk Women's Ministries
DESCRIPTION:Coffee Talk Women’s Ministries meets every second Saturday from 9 to 10:30am at Calvary Church in Ft. Worth. Everyone is welcome for a free breakfast.
URL:https://883thejourney.org/event/coffee-talk-womens-ministries/2029-01-13/
LOCATION:Calvary Church\, 700 McPherson Road\, Fort Worth\, 76140
ORGANIZER;CN="Tracy Shakespeare-Branch":MAILTO:traclight444@aol.com
GEO:32.6040093;-97.2893073
X-APPLE-STRUCTURED-LOCATION;VALUE=URI;X-ADDRESS=Calvary Church 700 McPherson Road Fort Worth 76140;X-APPLE-RADIUS=500;X-TITLE=700 McPherson Road:geo:-97.2893073,32.6040093
END:VEVENT
BEGIN:VEVENT
DTSTART;TZID=America/Chicago:20290119T200000
DTEND;TZID=America/Chicago:20290119T223000
DTSTAMP:20260421T151634
CREATED:20230531T152455Z
LAST-MODIFIED:20240129T135601Z
UID:10016822-1863547200-1863556200@883thejourney.org
SUMMARY:Thomsen Observatory
DESCRIPTION:(weather permitting) Look through telescopes and equipment scientists use to study the stars and planets. Plan a star watching party with friends or schedule a tour. But the observatory is open every 1st and 3rd Friday nights of the month. Just bring some bug spray!
URL:https://883thejourney.org/event/thomsen-observatory-2/2029-01-19/
LOCATION:Thomsen Observatory\, 425 Linden St\, Keene\, TX\, 76059\, United States
GEO:32.4019333;-97.3327621
X-APPLE-STRUCTURED-LOCATION;VALUE=URI;X-ADDRESS=Thomsen Observatory 425 Linden St Keene TX 76059 United States;X-APPLE-RADIUS=500;X-TITLE=425 Linden St:geo:-97.3327621,32.4019333
END:VEVENT
BEGIN:VEVENT
DTSTART;TZID=America/Chicago:20290126T060000
DTEND;TZID=America/Chicago:20290126T073000
DTSTAMP:20260421T151634
CREATED:20260302T203009Z
LAST-MODIFIED:20260302T203158Z
UID:10020607-1864101600-1864107000@883thejourney.org
SUMMARY:Women's Abide Gathering
DESCRIPTION:Come enjoy coffee\, community\, and meaningful conversation as we grow together!!!  Rooted in faith. Growing in wholeness. All women welcome—no matter where you’re at in your journey!\n\n\n\n\n\n Flying Squirrel Coffee Company\n216 E Main St\, Crowley\, TX 76036
URL:https://883thejourney.org/event/womens-abide-gathering/2029-01-26/
LOCATION:Flying Squirrell Coffee Company\, 216 E Main St\, Crowley\, TX\, 76036
GEO:32.5781455;-97.3571208
X-APPLE-STRUCTURED-LOCATION;VALUE=URI;X-ADDRESS=Flying Squirrell Coffee Company 216 E Main St Crowley TX 76036;X-APPLE-RADIUS=500;X-TITLE=216 E Main St:geo:-97.3571208,32.5781455
END:VEVENT
BEGIN:VEVENT
DTSTART;TZID=America/Chicago:20290201T130000
DTEND;TZID=America/Chicago:20290201T150000
DTSTAMP:20260421T151634
CREATED:20230515T191538Z
LAST-MODIFIED:20230515T191538Z
UID:10015507-1864645200-1864652400@883thejourney.org
SUMMARY:Volunteer at Senior Food Share
DESCRIPTION:Come volunteer and help serve the senior citizens in our community with our monthly Senior share Food Bank.\nPlease arrive by noon.
URL:https://883thejourney.org/event/volunteer-at-senior-food-share/2029-02-01/
LOCATION:The Annex\, 207 E First Street\, Keene\, 76059
ATTACH;FMTTYPE=image/jpeg:https://883thejourney.org/wp-content/uploads/2023/05/Senior-Food-Share.jpg
GEO:32.3949727;-97.3235144
X-APPLE-STRUCTURED-LOCATION;VALUE=URI;X-ADDRESS=The Annex 207 E First Street Keene 76059;X-APPLE-RADIUS=500;X-TITLE=207 E First Street:geo:-97.3235144,32.3949727
END:VEVENT
BEGIN:VEVENT
DTSTART;TZID=America/Chicago:20290202T200000
DTEND;TZID=America/Chicago:20290202T220000
DTSTAMP:20260421T151634
CREATED:20230531T152337Z
LAST-MODIFIED:20230531T152337Z
UID:10015520-1864756800-1864764000@883thejourney.org
SUMMARY:Thomsen Observatory
DESCRIPTION:Look through telescopes and equipment scientists use to study the stars and planets. Plan a star watching party with friends or schedule a tour. But the observatory is open every 1st and 3rd Friday nights of the month. Just bring some bug spray!
URL:https://883thejourney.org/event/thomsen-observatory/2029-02-02/
LOCATION:Thomsen Observatory\, 425 Linden St\, Keene\, TX\, 76059\, United States
GEO:32.4019333;-97.3327621
X-APPLE-STRUCTURED-LOCATION;VALUE=URI;X-ADDRESS=Thomsen Observatory 425 Linden St Keene TX 76059 United States;X-APPLE-RADIUS=500;X-TITLE=425 Linden St:geo:-97.3327621,32.4019333
END:VEVENT
BEGIN:VEVENT
DTSTART;TZID=America/Chicago:20290210T090000
DTEND;TZID=America/Chicago:20290210T103000
DTSTAMP:20260421T151634
CREATED:20240311T143721Z
LAST-MODIFIED:20250220T195950Z
UID:10014082-1865408400-1865413800@883thejourney.org
SUMMARY:Coffee Talk Women's Ministries
DESCRIPTION:Coffee Talk Women’s Ministries meets every second Saturday from 9 to 10:30am at Calvary Church in Ft. Worth. Everyone is welcome for a free breakfast.
URL:https://883thejourney.org/event/coffee-talk-womens-ministries/2029-02-10/
LOCATION:Calvary Church\, 700 McPherson Road\, Fort Worth\, 76140
ORGANIZER;CN="Tracy Shakespeare-Branch":MAILTO:traclight444@aol.com
GEO:32.6040093;-97.2893073
X-APPLE-STRUCTURED-LOCATION;VALUE=URI;X-ADDRESS=Calvary Church 700 McPherson Road Fort Worth 76140;X-APPLE-RADIUS=500;X-TITLE=700 McPherson Road:geo:-97.2893073,32.6040093
END:VEVENT
BEGIN:VEVENT
DTSTART;TZID=America/Chicago:20290213T163000
DTEND;TZID=America/Chicago:20290213T180000
DTSTAMP:20260421T151634
CREATED:20240617T153359Z
LAST-MODIFIED:20240617T153359Z
UID:10014647-1865694600-1865700000@883thejourney.org
SUMMARY:Godley Caregiver Support Group
DESCRIPTION:Alzheimer’s Association support groups provide emotional\, eductional and social support for caregivers thrugh regularly scheduled meetings. Participants learn to develop coping methods and maintain their personal\, physical\, and emotional health.
URL:https://883thejourney.org/event/godley-caregiver-support-group-2/2029-02-13/
LOCATION:Austin County State Bank\, 401 N Highway 171\, Godley\, 76044
CATEGORIES:Community Events
GEO:32.4474557;-97.5330591
X-APPLE-STRUCTURED-LOCATION;VALUE=URI;X-ADDRESS=Austin County State Bank 401 N Highway 171 Godley 76044;X-APPLE-RADIUS=500;X-TITLE=401 N Highway 171:geo:-97.5330591,32.4474557
END:VEVENT
BEGIN:VEVENT
DTSTART;TZID=America/Chicago:20290216T200000
DTEND;TZID=America/Chicago:20290216T223000
DTSTAMP:20260421T151634
CREATED:20230531T152455Z
LAST-MODIFIED:20240129T135601Z
UID:10016823-1865966400-1865975400@883thejourney.org
SUMMARY:Thomsen Observatory
DESCRIPTION:(weather permitting) Look through telescopes and equipment scientists use to study the stars and planets. Plan a star watching party with friends or schedule a tour. But the observatory is open every 1st and 3rd Friday nights of the month. Just bring some bug spray!
URL:https://883thejourney.org/event/thomsen-observatory-2/2029-02-16/
LOCATION:Thomsen Observatory\, 425 Linden St\, Keene\, TX\, 76059\, United States
GEO:32.4019333;-97.3327621
X-APPLE-STRUCTURED-LOCATION;VALUE=URI;X-ADDRESS=Thomsen Observatory 425 Linden St Keene TX 76059 United States;X-APPLE-RADIUS=500;X-TITLE=425 Linden St:geo:-97.3327621,32.4019333
END:VEVENT
BEGIN:VEVENT
DTSTART;TZID=America/Chicago:20290223T060000
DTEND;TZID=America/Chicago:20290223T073000
DTSTAMP:20260421T151634
CREATED:20260302T203009Z
LAST-MODIFIED:20260302T203158Z
UID:10020608-1866520800-1866526200@883thejourney.org
SUMMARY:Women's Abide Gathering
DESCRIPTION:Come enjoy coffee\, community\, and meaningful conversation as we grow together!!!  Rooted in faith. Growing in wholeness. All women welcome—no matter where you’re at in your journey!\n\n\n\n\n\n Flying Squirrel Coffee Company\n216 E Main St\, Crowley\, TX 76036
URL:https://883thejourney.org/event/womens-abide-gathering/2029-02-23/
LOCATION:Flying Squirrell Coffee Company\, 216 E Main St\, Crowley\, TX\, 76036
GEO:32.5781455;-97.3571208
X-APPLE-STRUCTURED-LOCATION;VALUE=URI;X-ADDRESS=Flying Squirrell Coffee Company 216 E Main St Crowley TX 76036;X-APPLE-RADIUS=500;X-TITLE=216 E Main St:geo:-97.3571208,32.5781455
END:VEVENT
BEGIN:VEVENT
DTSTART;TZID=America/Chicago:20290301T130000
DTEND;TZID=America/Chicago:20290301T150000
DTSTAMP:20260421T151634
CREATED:20230515T191538Z
LAST-MODIFIED:20230515T191538Z
UID:10015508-1867064400-1867071600@883thejourney.org
SUMMARY:Volunteer at Senior Food Share
DESCRIPTION:Come volunteer and help serve the senior citizens in our community with our monthly Senior share Food Bank.\nPlease arrive by noon.
URL:https://883thejourney.org/event/volunteer-at-senior-food-share/2029-03-01/
LOCATION:The Annex\, 207 E First Street\, Keene\, 76059
ATTACH;FMTTYPE=image/jpeg:https://883thejourney.org/wp-content/uploads/2023/05/Senior-Food-Share.jpg
GEO:32.3949727;-97.3235144
X-APPLE-STRUCTURED-LOCATION;VALUE=URI;X-ADDRESS=The Annex 207 E First Street Keene 76059;X-APPLE-RADIUS=500;X-TITLE=207 E First Street:geo:-97.3235144,32.3949727
END:VEVENT
BEGIN:VEVENT
DTSTART;TZID=America/Chicago:20290302T200000
DTEND;TZID=America/Chicago:20290302T220000
DTSTAMP:20260421T151634
CREATED:20230531T152337Z
LAST-MODIFIED:20230531T152337Z
UID:10015521-1867176000-1867183200@883thejourney.org
SUMMARY:Thomsen Observatory
DESCRIPTION:Look through telescopes and equipment scientists use to study the stars and planets. Plan a star watching party with friends or schedule a tour. But the observatory is open every 1st and 3rd Friday nights of the month. Just bring some bug spray!
URL:https://883thejourney.org/event/thomsen-observatory/2029-03-02/
LOCATION:Thomsen Observatory\, 425 Linden St\, Keene\, TX\, 76059\, United States
GEO:32.4019333;-97.3327621
X-APPLE-STRUCTURED-LOCATION;VALUE=URI;X-ADDRESS=Thomsen Observatory 425 Linden St Keene TX 76059 United States;X-APPLE-RADIUS=500;X-TITLE=425 Linden St:geo:-97.3327621,32.4019333
END:VEVENT
BEGIN:VEVENT
DTSTART;TZID=America/Chicago:20290310T090000
DTEND;TZID=America/Chicago:20290310T103000
DTSTAMP:20260421T151634
CREATED:20240311T143721Z
LAST-MODIFIED:20250220T195950Z
UID:10014083-1867827600-1867833000@883thejourney.org
SUMMARY:Coffee Talk Women's Ministries
DESCRIPTION:Coffee Talk Women’s Ministries meets every second Saturday from 9 to 10:30am at Calvary Church in Ft. Worth. Everyone is welcome for a free breakfast.
URL:https://883thejourney.org/event/coffee-talk-womens-ministries/2029-03-10/
LOCATION:Calvary Church\, 700 McPherson Road\, Fort Worth\, 76140
ORGANIZER;CN="Tracy Shakespeare-Branch":MAILTO:traclight444@aol.com
GEO:32.6040093;-97.2893073
X-APPLE-STRUCTURED-LOCATION;VALUE=URI;X-ADDRESS=Calvary Church 700 McPherson Road Fort Worth 76140;X-APPLE-RADIUS=500;X-TITLE=700 McPherson Road:geo:-97.2893073,32.6040093
END:VEVENT
BEGIN:VEVENT
DTSTART;TZID=America/Chicago:20290313T163000
DTEND;TZID=America/Chicago:20290313T180000
DTSTAMP:20260421T151634
CREATED:20240617T153359Z
LAST-MODIFIED:20240617T153359Z
UID:10014648-1868113800-1868119200@883thejourney.org
SUMMARY:Godley Caregiver Support Group
DESCRIPTION:Alzheimer’s Association support groups provide emotional\, eductional and social support for caregivers thrugh regularly scheduled meetings. Participants learn to develop coping methods and maintain their personal\, physical\, and emotional health.
URL:https://883thejourney.org/event/godley-caregiver-support-group-2/2029-03-13/
LOCATION:Austin County State Bank\, 401 N Highway 171\, Godley\, 76044
CATEGORIES:Community Events
GEO:32.4474557;-97.5330591
X-APPLE-STRUCTURED-LOCATION;VALUE=URI;X-ADDRESS=Austin County State Bank 401 N Highway 171 Godley 76044;X-APPLE-RADIUS=500;X-TITLE=401 N Highway 171:geo:-97.5330591,32.4474557
END:VEVENT
BEGIN:VEVENT
DTSTART;TZID=America/Chicago:20290316T200000
DTEND;TZID=America/Chicago:20290316T223000
DTSTAMP:20260421T151634
CREATED:20230531T152455Z
LAST-MODIFIED:20240129T135601Z
UID:10016824-1868385600-1868394600@883thejourney.org
SUMMARY:Thomsen Observatory
DESCRIPTION:(weather permitting) Look through telescopes and equipment scientists use to study the stars and planets. Plan a star watching party with friends or schedule a tour. But the observatory is open every 1st and 3rd Friday nights of the month. Just bring some bug spray!
URL:https://883thejourney.org/event/thomsen-observatory-2/2029-03-16/
LOCATION:Thomsen Observatory\, 425 Linden St\, Keene\, TX\, 76059\, United States
GEO:32.4019333;-97.3327621
X-APPLE-STRUCTURED-LOCATION;VALUE=URI;X-ADDRESS=Thomsen Observatory 425 Linden St Keene TX 76059 United States;X-APPLE-RADIUS=500;X-TITLE=425 Linden St:geo:-97.3327621,32.4019333
END:VEVENT
BEGIN:VEVENT
DTSTART;TZID=America/Chicago:20290330T060000
DTEND;TZID=America/Chicago:20290330T073000
DTSTAMP:20260421T151634
CREATED:20260302T203009Z
LAST-MODIFIED:20260302T203158Z
UID:10020609-1869544800-1869550200@883thejourney.org
SUMMARY:Women's Abide Gathering
DESCRIPTION:Come enjoy coffee\, community\, and meaningful conversation as we grow together!!!  Rooted in faith. Growing in wholeness. All women welcome—no matter where you’re at in your journey!\n\n\n\n\n\n Flying Squirrel Coffee Company\n216 E Main St\, Crowley\, TX 76036
URL:https://883thejourney.org/event/womens-abide-gathering/2029-03-30/
LOCATION:Flying Squirrell Coffee Company\, 216 E Main St\, Crowley\, TX\, 76036
GEO:32.5781455;-97.3571208
X-APPLE-STRUCTURED-LOCATION;VALUE=URI;X-ADDRESS=Flying Squirrell Coffee Company 216 E Main St Crowley TX 76036;X-APPLE-RADIUS=500;X-TITLE=216 E Main St:geo:-97.3571208,32.5781455
END:VEVENT
BEGIN:VEVENT
DTSTART;TZID=America/Chicago:20290405T130000
DTEND;TZID=America/Chicago:20290405T150000
DTSTAMP:20260421T151634
CREATED:20230515T191538Z
LAST-MODIFIED:20230515T191538Z
UID:10015509-1870088400-1870095600@883thejourney.org
SUMMARY:Volunteer at Senior Food Share
DESCRIPTION:Come volunteer and help serve the senior citizens in our community with our monthly Senior share Food Bank.\nPlease arrive by noon.
URL:https://883thejourney.org/event/volunteer-at-senior-food-share/2029-04-05/
LOCATION:The Annex\, 207 E First Street\, Keene\, 76059
ATTACH;FMTTYPE=image/jpeg:https://883thejourney.org/wp-content/uploads/2023/05/Senior-Food-Share.jpg
GEO:32.3949727;-97.3235144
X-APPLE-STRUCTURED-LOCATION;VALUE=URI;X-ADDRESS=The Annex 207 E First Street Keene 76059;X-APPLE-RADIUS=500;X-TITLE=207 E First Street:geo:-97.3235144,32.3949727
END:VEVENT
BEGIN:VEVENT
DTSTART;TZID=America/Chicago:20290406T200000
DTEND;TZID=America/Chicago:20290406T220000
DTSTAMP:20260421T151634
CREATED:20230531T152337Z
LAST-MODIFIED:20230531T152337Z
UID:10015522-1870200000-1870207200@883thejourney.org
SUMMARY:Thomsen Observatory
DESCRIPTION:Look through telescopes and equipment scientists use to study the stars and planets. Plan a star watching party with friends or schedule a tour. But the observatory is open every 1st and 3rd Friday nights of the month. Just bring some bug spray!
URL:https://883thejourney.org/event/thomsen-observatory/2029-04-06/
LOCATION:Thomsen Observatory\, 425 Linden St\, Keene\, TX\, 76059\, United States
GEO:32.4019333;-97.3327621
X-APPLE-STRUCTURED-LOCATION;VALUE=URI;X-ADDRESS=Thomsen Observatory 425 Linden St Keene TX 76059 United States;X-APPLE-RADIUS=500;X-TITLE=425 Linden St:geo:-97.3327621,32.4019333
END:VEVENT
END:VCALENDAR