BEGIN:VCALENDAR
VERSION:2.0
PRODID:-//88.3 The Journey - ECPv6.15.20//NONSGML v1.0//EN
CALSCALE:GREGORIAN
METHOD:PUBLISH
X-WR-CALNAME:88.3 The Journey
X-ORIGINAL-URL:https://883thejourney.org
X-WR-CALDESC:Events for 88.3 The Journey
REFRESH-INTERVAL;VALUE=DURATION:PT1H
X-Robots-Tag:noindex
X-PUBLISHED-TTL:PT1H
BEGIN:VTIMEZONE
TZID:America/Chicago
BEGIN:DAYLIGHT
TZOFFSETFROM:-0600
TZOFFSETTO:-0500
TZNAME:CDT
DTSTART:20250309T080000
END:DAYLIGHT
BEGIN:STANDARD
TZOFFSETFROM:-0500
TZOFFSETTO:-0600
TZNAME:CST
DTSTART:20251102T070000
END:STANDARD
BEGIN:DAYLIGHT
TZOFFSETFROM:-0600
TZOFFSETTO:-0500
TZNAME:CDT
DTSTART:20260308T080000
END:DAYLIGHT
BEGIN:STANDARD
TZOFFSETFROM:-0500
TZOFFSETTO:-0600
TZNAME:CST
DTSTART:20261101T070000
END:STANDARD
BEGIN:DAYLIGHT
TZOFFSETFROM:-0600
TZOFFSETTO:-0500
TZNAME:CDT
DTSTART:20270314T080000
END:DAYLIGHT
BEGIN:STANDARD
TZOFFSETFROM:-0500
TZOFFSETTO:-0600
TZNAME:CST
DTSTART:20271107T070000
END:STANDARD
END:VTIMEZONE
BEGIN:VEVENT
DTSTART;TZID=America/Chicago:20260331T064500
DTEND;TZID=America/Chicago:20260331T080000
DTSTAMP:20260421T055734
CREATED:20260305T001026Z
LAST-MODIFIED:20260305T001627Z
UID:10020637-1774939500-1774944000@883thejourney.org
SUMMARY:50th Annual Holy Week Services
DESCRIPTION:
URL:https://883thejourney.org/event/50th-annual-holy-week-services/2026-03-31/
LOCATION:Cleburne Conference Center Parking Lot\, 1501 Henderson\, Cleburne\, TX\, United States
GEO:32.3396792;-97.4089913
X-APPLE-STRUCTURED-LOCATION;VALUE=URI;X-ADDRESS=Cleburne Conference Center Parking Lot 1501 Henderson Cleburne TX United States;X-APPLE-RADIUS=500;X-TITLE=1501 Henderson:geo:-97.4089913,32.3396792
END:VEVENT
BEGIN:VEVENT
DTSTART;TZID=America/Chicago:20260401T064500
DTEND;TZID=America/Chicago:20260401T080000
DTSTAMP:20260421T055734
CREATED:20260305T001026Z
LAST-MODIFIED:20260305T001627Z
UID:10020638-1775025900-1775030400@883thejourney.org
SUMMARY:50th Annual Holy Week Services
DESCRIPTION:
URL:https://883thejourney.org/event/50th-annual-holy-week-services/2026-04-01/
LOCATION:Cleburne Conference Center Parking Lot\, 1501 Henderson\, Cleburne\, TX\, United States
GEO:32.3396792;-97.4089913
X-APPLE-STRUCTURED-LOCATION;VALUE=URI;X-ADDRESS=Cleburne Conference Center Parking Lot 1501 Henderson Cleburne TX United States;X-APPLE-RADIUS=500;X-TITLE=1501 Henderson:geo:-97.4089913,32.3396792
END:VEVENT
BEGIN:VEVENT
DTSTART;TZID=America/Chicago:20260402T064500
DTEND;TZID=America/Chicago:20260402T080000
DTSTAMP:20260421T055734
CREATED:20260305T001026Z
LAST-MODIFIED:20260305T001627Z
UID:10020639-1775112300-1775116800@883thejourney.org
SUMMARY:50th Annual Holy Week Services
DESCRIPTION:
URL:https://883thejourney.org/event/50th-annual-holy-week-services/2026-04-02/
LOCATION:Cleburne Conference Center Parking Lot\, 1501 Henderson\, Cleburne\, TX\, United States
GEO:32.3396792;-97.4089913
X-APPLE-STRUCTURED-LOCATION;VALUE=URI;X-ADDRESS=Cleburne Conference Center Parking Lot 1501 Henderson Cleburne TX United States;X-APPLE-RADIUS=500;X-TITLE=1501 Henderson:geo:-97.4089913,32.3396792
END:VEVENT
BEGIN:VEVENT
DTSTART;TZID=America/Chicago:20260402T130000
DTEND;TZID=America/Chicago:20260402T150000
DTSTAMP:20260421T055734
CREATED:20230515T191538Z
LAST-MODIFIED:20230515T191538Z
UID:10015473-1775134800-1775142000@883thejourney.org
SUMMARY:Volunteer at Senior Food Share
DESCRIPTION:Come volunteer and help serve the senior citizens in our community with our monthly Senior share Food Bank.\nPlease arrive by noon.
URL:https://883thejourney.org/event/volunteer-at-senior-food-share/2026-04-02/
LOCATION:The Annex\, 207 E First Street\, Keene\, 76059
ATTACH;FMTTYPE=image/jpeg:https://883thejourney.org/wp-content/uploads/2023/05/Senior-Food-Share.jpg
GEO:32.3949727;-97.3235144
X-APPLE-STRUCTURED-LOCATION;VALUE=URI;X-ADDRESS=The Annex 207 E First Street Keene 76059;X-APPLE-RADIUS=500;X-TITLE=207 E First Street:geo:-97.3235144,32.3949727
END:VEVENT
BEGIN:VEVENT
DTSTART;TZID=America/Chicago:20260403T064500
DTEND;TZID=America/Chicago:20260403T080000
DTSTAMP:20260421T055734
CREATED:20260305T001026Z
LAST-MODIFIED:20260305T001627Z
UID:10020640-1775198700-1775203200@883thejourney.org
SUMMARY:50th Annual Holy Week Services
DESCRIPTION:
URL:https://883thejourney.org/event/50th-annual-holy-week-services/2026-04-03/
LOCATION:Cleburne Conference Center Parking Lot\, 1501 Henderson\, Cleburne\, TX\, United States
GEO:32.3396792;-97.4089913
X-APPLE-STRUCTURED-LOCATION;VALUE=URI;X-ADDRESS=Cleburne Conference Center Parking Lot 1501 Henderson Cleburne TX United States;X-APPLE-RADIUS=500;X-TITLE=1501 Henderson:geo:-97.4089913,32.3396792
END:VEVENT
BEGIN:VEVENT
DTSTART;TZID=America/Chicago:20260403T200000
DTEND;TZID=America/Chicago:20260403T220000
DTSTAMP:20260421T055734
CREATED:20230531T152337Z
LAST-MODIFIED:20230531T152337Z
UID:10000894-1775246400-1775253600@883thejourney.org
SUMMARY:Thomsen Observatory
DESCRIPTION:Look through telescopes and equipment scientists use to study the stars and planets. Plan a star watching party with friends or schedule a tour. But the observatory is open every 1st and 3rd Friday nights of the month. Just bring some bug spray!
URL:https://883thejourney.org/event/thomsen-observatory/2026-04-03/
LOCATION:Thomsen Observatory\, 425 Linden St\, Keene\, TX\, 76059\, United States
GEO:32.4019333;-97.3327621
X-APPLE-STRUCTURED-LOCATION;VALUE=URI;X-ADDRESS=Thomsen Observatory 425 Linden St Keene TX 76059 United States;X-APPLE-RADIUS=500;X-TITLE=425 Linden St:geo:-97.3327621,32.4019333
END:VEVENT
BEGIN:VEVENT
DTSTART;TZID=America/Chicago:20260404T090000
DTEND;TZID=America/Chicago:20260404T160000
DTSTAMP:20260421T055734
CREATED:20260318T184947Z
LAST-MODIFIED:20260318T184947Z
UID:10021016-1775293200-1775318400@883thejourney.org
SUMMARY:Resurrection Story
DESCRIPTION:Resurrection Story \nA Live Walk-Through Experience of the Life\, Death\, and Resurrection of Jesus \nEvent Details \n📅 Dates: April 4-5\, 2026 \n⏳ Times: Showings begin at 9:00am and continue at 1 hour intervals throughout the day with the last tour at 4:00pm. \n🗣️ Languages: English\, Spanish and ASL showings will be available. Ensure you select the appropriate show time in the language you prefer. \n📍 Location: Showings begin at Southwestern Adventist University at the Mizpah Gate and finish at the Keene Seventh-day Adventist Church (114 S Fairview St.\, Keene\, TX 76059) \nStep into the world of Jesus’ final days\, His sacrifice\, and His resurrection in this immersive\, live-action walk-through experience. Resurrection Story brings the Bible to life\, highlighting Jesus’ saving work\, the significance of the Sabbath\, and the hope of His second coming. \nThis free event is open to all\, but tickets are required to reserve your show time. \n🚨 Please be advised that the last scene in this production includes flashing lights and strobe effects
URL:https://883thejourney.org/event/resurrection-story/2026-04-04/
LOCATION:Keene Church\, 114 S Fairview\, Keene\, 76059
ORGANIZER;CN="Keene Church":MAILTO:info@keenechurch.org
GEO:32.3943707;-97.3262985
X-APPLE-STRUCTURED-LOCATION;VALUE=URI;X-ADDRESS=Keene Church 114 S Fairview Keene 76059;X-APPLE-RADIUS=500;X-TITLE=114 S Fairview:geo:-97.3262985,32.3943707
END:VEVENT
BEGIN:VEVENT
DTSTART;TZID=America/Chicago:20260405T090000
DTEND;TZID=America/Chicago:20260405T160000
DTSTAMP:20260421T055734
CREATED:20260318T184947Z
LAST-MODIFIED:20260318T184947Z
UID:10021017-1775379600-1775404800@883thejourney.org
SUMMARY:Resurrection Story
DESCRIPTION:Resurrection Story \nA Live Walk-Through Experience of the Life\, Death\, and Resurrection of Jesus \nEvent Details \n📅 Dates: April 4-5\, 2026 \n⏳ Times: Showings begin at 9:00am and continue at 1 hour intervals throughout the day with the last tour at 4:00pm. \n🗣️ Languages: English\, Spanish and ASL showings will be available. Ensure you select the appropriate show time in the language you prefer. \n📍 Location: Showings begin at Southwestern Adventist University at the Mizpah Gate and finish at the Keene Seventh-day Adventist Church (114 S Fairview St.\, Keene\, TX 76059) \nStep into the world of Jesus’ final days\, His sacrifice\, and His resurrection in this immersive\, live-action walk-through experience. Resurrection Story brings the Bible to life\, highlighting Jesus’ saving work\, the significance of the Sabbath\, and the hope of His second coming. \nThis free event is open to all\, but tickets are required to reserve your show time. \n🚨 Please be advised that the last scene in this production includes flashing lights and strobe effects
URL:https://883thejourney.org/event/resurrection-story/2026-04-05/
LOCATION:Keene Church\, 114 S Fairview\, Keene\, 76059
ORGANIZER;CN="Keene Church":MAILTO:info@keenechurch.org
GEO:32.3943707;-97.3262985
X-APPLE-STRUCTURED-LOCATION;VALUE=URI;X-ADDRESS=Keene Church 114 S Fairview Keene 76059;X-APPLE-RADIUS=500;X-TITLE=114 S Fairview:geo:-97.3262985,32.3943707
END:VEVENT
BEGIN:VEVENT
DTSTART;TZID=America/Chicago:20260411T080000
DTEND;TZID=America/Chicago:20260411T093000
DTSTAMP:20260421T055734
CREATED:20250709T120531Z
LAST-MODIFIED:20250709T120531Z
UID:10018540-1775894400-1775899800@883thejourney.org
SUMMARY:2nd Saturday Bird Walks
DESCRIPTION:2nd Saturday Bird Walks are intended to help beginning and intermediate birders with bird spotting and identification techniques. There are also plenty of opportunities provided for participants to ask questions of experienced birders. Prairie\, woodland\, and wetland habitats are included in these walks. This program is typically offered monthly from September through June annually. These walks begin promptly at 8 AM and last 1.5 hours. \nThis program is included in general admission and is free for Heard Museum members. Optional extended time is available by participant request. Be sure to arrive on time\, because if you come a few minutes late\, the group may have already started their walk. Learn more about birding at the Heard on our Birding page.\n09/13/25\, 10/11/25\, 11/8/25\, 12/13/25\, 01/10/26\, 02/14/26\, 03/14/25\, 04/11/26\, 05/09/26\, 06/13/26
URL:https://883thejourney.org/event/2nd-saturday-bird-walks/2026-04-11/
LOCATION:Heard Natural Science Museum & Wildlife Sanctuary\, 1 Nature Place\, McKinney\, TX\, 75069\, United States
CATEGORIES:Community Events,Family Event
ATTACH;FMTTYPE=image/jpeg:https://883thejourney.org/wp-content/uploads/2025/06/owl-julie-custer.jpg
ORGANIZER;CN="Heard Natural Science Museum &amp%3B Wildlife Sanctuary":MAILTO:ropes@heardmuseum.org
GEO:33.1584342;-96.615336
X-APPLE-STRUCTURED-LOCATION;VALUE=URI;X-ADDRESS=Heard Natural Science Museum & Wildlife Sanctuary 1 Nature Place McKinney TX 75069 United States;X-APPLE-RADIUS=500;X-TITLE=1 Nature Place:geo:-96.615336,33.1584342
END:VEVENT
BEGIN:VEVENT
DTSTART;TZID=America/Chicago:20260411T090000
DTEND;TZID=America/Chicago:20260411T103000
DTSTAMP:20260421T055734
CREATED:20240311T143721Z
LAST-MODIFIED:20250220T195950Z
UID:10014048-1775898000-1775903400@883thejourney.org
SUMMARY:Coffee Talk Women's Ministries
DESCRIPTION:Coffee Talk Women’s Ministries meets every second Saturday from 9 to 10:30am at Calvary Church in Ft. Worth. Everyone is welcome for a free breakfast.
URL:https://883thejourney.org/event/coffee-talk-womens-ministries/2026-04-11/
LOCATION:Calvary Church\, 700 McPherson Road\, Fort Worth\, 76140
ORGANIZER;CN="Tracy Shakespeare-Branch":MAILTO:traclight444@aol.com
GEO:32.6040093;-97.2893073
X-APPLE-STRUCTURED-LOCATION;VALUE=URI;X-ADDRESS=Calvary Church 700 McPherson Road Fort Worth 76140;X-APPLE-RADIUS=500;X-TITLE=700 McPherson Road:geo:-97.2893073,32.6040093
END:VEVENT
BEGIN:VEVENT
DTSTART;TZID=America/Chicago:20260414T163000
DTEND;TZID=America/Chicago:20260414T180000
DTSTAMP:20260421T055734
CREATED:20240617T153359Z
LAST-MODIFIED:20240617T153359Z
UID:10014613-1776184200-1776189600@883thejourney.org
SUMMARY:Godley Caregiver Support Group
DESCRIPTION:Alzheimer’s Association support groups provide emotional\, eductional and social support for caregivers thrugh regularly scheduled meetings. Participants learn to develop coping methods and maintain their personal\, physical\, and emotional health.
URL:https://883thejourney.org/event/godley-caregiver-support-group-2/2026-04-14/
LOCATION:Austin County State Bank\, 401 N Highway 171\, Godley\, 76044
CATEGORIES:Community Events
GEO:32.4474557;-97.5330591
X-APPLE-STRUCTURED-LOCATION;VALUE=URI;X-ADDRESS=Austin County State Bank 401 N Highway 171 Godley 76044;X-APPLE-RADIUS=500;X-TITLE=401 N Highway 171:geo:-97.5330591,32.4474557
END:VEVENT
BEGIN:VEVENT
DTSTART;TZID=America/Chicago:20260416T080000
DTEND;TZID=America/Chicago:20260416T093000
DTSTAMP:20260421T055734
CREATED:20250709T120607Z
LAST-MODIFIED:20250709T120607Z
UID:10018552-1776326400-1776331800@883thejourney.org
SUMMARY:3rd Thursday Bird Walks
DESCRIPTION:3rd Thursday Bird Walks in the Heard Wildlife Sanctuary are offered by Heard staff. These seasonally relevant bird walks are intended to help beginning and intermediate birders with bird spotting and identification techniques. There are also plenty of opportunities provided for participants to ask questions of experienced birders. This program is offered monthly. These walks begin promptly at 8 AM. This program is included in general admission and is free for Heard Museum members.\n07/17/25\,08/21/25\, 09/18/25\, 10/16/25\, 11/20/25\, 12/18/25\, 01/22/26\, 02/19/26\, 03/19/26\, 04/16/26\, 05/21/26\, 06/18/26\, 07/23/26\, 08/20/26
URL:https://883thejourney.org/event/3rd-thursday-bird-walks/2026-04-16/
LOCATION:Heard Natural Science Museum & Wildlife Sanctuary\, 1 Nature Place\, McKinney\, TX\, 75069\, United States
CATEGORIES:Community Events,Family Event
ATTACH;FMTTYPE=image/jpeg:https://883thejourney.org/wp-content/uploads/2025/06/painted-bunting-Andres-Cadena.jpg
ORGANIZER;CN="Heard Natural Science Museum &amp%3B Wildlife Sanctuary":MAILTO:ropes@heardmuseum.org
GEO:33.1584342;-96.615336
X-APPLE-STRUCTURED-LOCATION;VALUE=URI;X-ADDRESS=Heard Natural Science Museum & Wildlife Sanctuary 1 Nature Place McKinney TX 75069 United States;X-APPLE-RADIUS=500;X-TITLE=1 Nature Place:geo:-96.615336,33.1584342
END:VEVENT
BEGIN:VEVENT
DTSTART;TZID=America/Chicago:20260417T090000
DTEND;TZID=America/Chicago:20260419T170000
DTSTAMP:20260421T055734
CREATED:20260302T200823Z
LAST-MODIFIED:20260302T200823Z
UID:10020512-1776416400-1776618000@883thejourney.org
SUMMARY:Antique Alley - Cleburne\, Texas
DESCRIPTION:Antique Alley Cleburne\, TX is happening on April 17–19th.\nAntique Alley is taking over Downtown Cleburne for THREE full days of antiques\, deals\, and serious treasure hunting! With 11 antique stores\, parking lot sales\, and outside vendors (weather permitting)\, this is the weekend to shop BIG and save BIG.\n Why you don’t want to miss it:• Extended hours — more time to hunt\, dig\, and discover• Special sales throughout the weekend• 11 antique stores filled wall-to-wall with vintage\, collectibles & one-of-a-kind finds• Parking lot sales & outdoor vendors for extra bargain hunting\n Pro tip: Look for your Antique Alley Cleburne map to plan your route and make sure you don’t miss a single stop!\nWhether you’re chasing a deal\, filling a booth\, or just love the thrill of the hunt\, Antique Alley delivers.\n April 17–19 Downtown Cleburne\nMark “Going\,” grab your comfy shoes\, and bring a friend who knows how to spot a good deal when they see one
URL:https://883thejourney.org/event/antique-alley-cleburne-texas/
LOCATION:Downtown Cleburne
END:VEVENT
BEGIN:VEVENT
DTSTART;TZID=America/Chicago:20260417T170000
DTEND;TZID=America/Chicago:20260417T210000
DTSTAMP:20260421T055734
CREATED:20260319T175841Z
LAST-MODIFIED:20260319T175841Z
UID:10021019-1776445200-1776459600@883thejourney.org
SUMMARY:The Furnace
DESCRIPTION:The Furnace is a Community Men’s Event in Cleburne\, TX. The event was established to bring men and young men of Cleburne and Johnson County together for a night of fellowship\, worship\, and an encouraging and challenging message. This year’s speaker is former NFL quarterback and current ministry leader and business owner Kevin Kolb. Kevin is going to deliver a challenging message to men. The event will occur at Bethel Temple in Cleburne. Food will be provided by Roscoe’s Smokehouse in Burleson. The event has a ticket charge of $25 for men\, but youth and kids are free. Look for tickets at your local church or call Bethel Temple 817-645-2781.
URL:https://883thejourney.org/event/the-furnace/
LOCATION:Bethel Temple Cleburne\, 600 S Colonial\, Cleburne\, 76033
CATEGORIES:Church Events,Community Events
ATTACH;FMTTYPE=image/jpeg:https://883thejourney.org/wp-content/uploads/2026/03/2026-Furnace-Poster.jpg
GEO:32.3336301;-97.4127038
X-APPLE-STRUCTURED-LOCATION;VALUE=URI;X-ADDRESS=Bethel Temple Cleburne 600 S Colonial Cleburne 76033;X-APPLE-RADIUS=500;X-TITLE=600 S Colonial:geo:-97.4127038,32.3336301
END:VEVENT
BEGIN:VEVENT
DTSTART;TZID=America/Chicago:20260417T200000
DTEND;TZID=America/Chicago:20260417T223000
DTSTAMP:20260421T055734
CREATED:20230531T152455Z
LAST-MODIFIED:20240129T135601Z
UID:10000954-1776456000-1776465000@883thejourney.org
SUMMARY:Thomsen Observatory
DESCRIPTION:(weather permitting) Look through telescopes and equipment scientists use to study the stars and planets. Plan a star watching party with friends or schedule a tour. But the observatory is open every 1st and 3rd Friday nights of the month. Just bring some bug spray!
URL:https://883thejourney.org/event/thomsen-observatory-2/2026-04-17/
LOCATION:Thomsen Observatory\, 425 Linden St\, Keene\, TX\, 76059\, United States
GEO:32.4019333;-97.3327621
X-APPLE-STRUCTURED-LOCATION;VALUE=URI;X-ADDRESS=Thomsen Observatory 425 Linden St Keene TX 76059 United States;X-APPLE-RADIUS=500;X-TITLE=425 Linden St:geo:-97.3327621,32.4019333
END:VEVENT
BEGIN:VEVENT
DTSTART;TZID=America/Chicago:20260418T090000
DTEND;TZID=America/Chicago:20260418T110000
DTSTAMP:20260421T055734
CREATED:20260302T195629Z
LAST-MODIFIED:20260302T195629Z
UID:10020511-1776502800-1776510000@883thejourney.org
SUMMARY:Walk for Life 2026
DESCRIPTION:Join Next Step Women’s Center as we celebrate life\, raise awareness\, and fundraise for the life-transforming work at Next Step Women’s Center throughout the year with those facing an unplanned pregnancy. \nPartner with us so we can continue to offer free\, life-affirming services to our community.
URL:https://883thejourney.org/event/walk-for-life-2026/
LOCATION:Bailey Lake\, 280 W Hidden Creek Pkwy\, Burleson\, TX\, 76028
GEO:32.5272228;-97.3219257
X-APPLE-STRUCTURED-LOCATION;VALUE=URI;X-ADDRESS=Bailey Lake 280 W Hidden Creek Pkwy Burleson TX 76028;X-APPLE-RADIUS=500;X-TITLE=280 W Hidden Creek Pkwy:geo:-97.3219257,32.5272228
END:VEVENT
BEGIN:VEVENT
DTSTART;TZID=America/Chicago:20260418T130000
DTEND;TZID=America/Chicago:20260418T160000
DTSTAMP:20260421T055734
CREATED:20260416T030123Z
LAST-MODIFIED:20260416T030123Z
UID:10021034-1776517200-1776528000@883thejourney.org
SUMMARY:Pegasus Landing of Chisholm Trail: Car Show and Spring Fair
DESCRIPTION:Take a step back in time and enjoy an afternoon of classic cars\, shopping\, and spring fun at the Car Show and Spring Fair!\n\n1 to 4 PM\nPegasus Landing of Chisholm Trail in Keene\n\n\nBrowse local vendors\, admire beautiful vintage rides\, and enjoy snacks from food trucks along the way!
URL:https://883thejourney.org/event/pegasus-landing-of-chisholm-trail-car-show-and-spring-fair/
LOCATION:Pegasus Landing of Chisolm Trail in Keene
CATEGORIES:Community Events
END:VEVENT
END:VCALENDAR