BEGIN:VCALENDAR
VERSION:2.0
PRODID:-//88.3 The Journey - ECPv6.15.20//NONSGML v1.0//EN
CALSCALE:GREGORIAN
METHOD:PUBLISH
X-WR-CALNAME:88.3 The Journey
X-ORIGINAL-URL:https://883thejourney.org
X-WR-CALDESC:Events for 88.3 The Journey
REFRESH-INTERVAL;VALUE=DURATION:PT1H
X-Robots-Tag:noindex
X-PUBLISHED-TTL:PT1H
BEGIN:VTIMEZONE
TZID:America/Chicago
BEGIN:DAYLIGHT
TZOFFSETFROM:-0600
TZOFFSETTO:-0500
TZNAME:CDT
DTSTART:20270314T080000
END:DAYLIGHT
BEGIN:STANDARD
TZOFFSETFROM:-0500
TZOFFSETTO:-0600
TZNAME:CST
DTSTART:20271107T070000
END:STANDARD
BEGIN:DAYLIGHT
TZOFFSETFROM:-0600
TZOFFSETTO:-0500
TZNAME:CDT
DTSTART:20280312T080000
END:DAYLIGHT
BEGIN:STANDARD
TZOFFSETFROM:-0500
TZOFFSETTO:-0600
TZNAME:CST
DTSTART:20281105T070000
END:STANDARD
BEGIN:DAYLIGHT
TZOFFSETFROM:-0600
TZOFFSETTO:-0500
TZNAME:CDT
DTSTART:20290311T080000
END:DAYLIGHT
BEGIN:STANDARD
TZOFFSETFROM:-0500
TZOFFSETTO:-0600
TZNAME:CST
DTSTART:20291104T070000
END:STANDARD
END:VTIMEZONE
BEGIN:VEVENT
DTSTART;TZID=America/Chicago:20280314T163000
DTEND;TZID=America/Chicago:20280314T180000
DTSTAMP:20260420T220148
CREATED:20240617T153359Z
LAST-MODIFIED:20240617T153359Z
UID:10014636-1836664200-1836669600@883thejourney.org
SUMMARY:Godley Caregiver Support Group
DESCRIPTION:Alzheimer’s Association support groups provide emotional\, eductional and social support for caregivers thrugh regularly scheduled meetings. Participants learn to develop coping methods and maintain their personal\, physical\, and emotional health.
URL:https://883thejourney.org/event/godley-caregiver-support-group-2/2028-03-14/
LOCATION:Austin County State Bank\, 401 N Highway 171\, Godley\, 76044
CATEGORIES:Community Events
GEO:32.4474557;-97.5330591
X-APPLE-STRUCTURED-LOCATION;VALUE=URI;X-ADDRESS=Austin County State Bank 401 N Highway 171 Godley 76044;X-APPLE-RADIUS=500;X-TITLE=401 N Highway 171:geo:-97.5330591,32.4474557
END:VEVENT
BEGIN:VEVENT
DTSTART;TZID=America/Chicago:20280317T200000
DTEND;TZID=America/Chicago:20280317T223000
DTSTAMP:20260420T220148
CREATED:20230531T152455Z
LAST-MODIFIED:20240129T135601Z
UID:10000977-1836936000-1836945000@883thejourney.org
SUMMARY:Thomsen Observatory
DESCRIPTION:(weather permitting) Look through telescopes and equipment scientists use to study the stars and planets. Plan a star watching party with friends or schedule a tour. But the observatory is open every 1st and 3rd Friday nights of the month. Just bring some bug spray!
URL:https://883thejourney.org/event/thomsen-observatory-2/2028-03-17/
LOCATION:Thomsen Observatory\, 425 Linden St\, Keene\, TX\, 76059\, United States
GEO:32.4019333;-97.3327621
X-APPLE-STRUCTURED-LOCATION;VALUE=URI;X-ADDRESS=Thomsen Observatory 425 Linden St Keene TX 76059 United States;X-APPLE-RADIUS=500;X-TITLE=425 Linden St:geo:-97.3327621,32.4019333
END:VEVENT
BEGIN:VEVENT
DTSTART;TZID=America/Chicago:20280331T060000
DTEND;TZID=America/Chicago:20280331T073000
DTSTAMP:20260420T220148
CREATED:20260302T203009Z
LAST-MODIFIED:20260302T203158Z
UID:10020597-1838095200-1838100600@883thejourney.org
SUMMARY:Women's Abide Gathering
DESCRIPTION:Come enjoy coffee\, community\, and meaningful conversation as we grow together!!!  Rooted in faith. Growing in wholeness. All women welcome—no matter where you’re at in your journey!\n\n\n\n\n\n Flying Squirrel Coffee Company\n216 E Main St\, Crowley\, TX 76036
URL:https://883thejourney.org/event/womens-abide-gathering/2028-03-31/
LOCATION:Flying Squirrell Coffee Company\, 216 E Main St\, Crowley\, TX\, 76036
GEO:32.5781455;-97.3571208
X-APPLE-STRUCTURED-LOCATION;VALUE=URI;X-ADDRESS=Flying Squirrell Coffee Company 216 E Main St Crowley TX 76036;X-APPLE-RADIUS=500;X-TITLE=216 E Main St:geo:-97.3571208,32.5781455
END:VEVENT
BEGIN:VEVENT
DTSTART;TZID=America/Chicago:20280406T130000
DTEND;TZID=America/Chicago:20280406T150000
DTSTAMP:20260420T220148
CREATED:20230515T191538Z
LAST-MODIFIED:20230515T191538Z
UID:10015497-1838638800-1838646000@883thejourney.org
SUMMARY:Volunteer at Senior Food Share
DESCRIPTION:Come volunteer and help serve the senior citizens in our community with our monthly Senior share Food Bank.\nPlease arrive by noon.
URL:https://883thejourney.org/event/volunteer-at-senior-food-share/2028-04-06/
LOCATION:The Annex\, 207 E First Street\, Keene\, 76059
ATTACH;FMTTYPE=image/jpeg:https://883thejourney.org/wp-content/uploads/2023/05/Senior-Food-Share.jpg
GEO:32.3949727;-97.3235144
X-APPLE-STRUCTURED-LOCATION;VALUE=URI;X-ADDRESS=The Annex 207 E First Street Keene 76059;X-APPLE-RADIUS=500;X-TITLE=207 E First Street:geo:-97.3235144,32.3949727
END:VEVENT
BEGIN:VEVENT
DTSTART;TZID=America/Chicago:20280407T200000
DTEND;TZID=America/Chicago:20280407T220000
DTSTAMP:20260420T220148
CREATED:20230531T152337Z
LAST-MODIFIED:20230531T152337Z
UID:10000918-1838750400-1838757600@883thejourney.org
SUMMARY:Thomsen Observatory
DESCRIPTION:Look through telescopes and equipment scientists use to study the stars and planets. Plan a star watching party with friends or schedule a tour. But the observatory is open every 1st and 3rd Friday nights of the month. Just bring some bug spray!
URL:https://883thejourney.org/event/thomsen-observatory/2028-04-07/
LOCATION:Thomsen Observatory\, 425 Linden St\, Keene\, TX\, 76059\, United States
GEO:32.4019333;-97.3327621
X-APPLE-STRUCTURED-LOCATION;VALUE=URI;X-ADDRESS=Thomsen Observatory 425 Linden St Keene TX 76059 United States;X-APPLE-RADIUS=500;X-TITLE=425 Linden St:geo:-97.3327621,32.4019333
END:VEVENT
BEGIN:VEVENT
DTSTART;TZID=America/Chicago:20280408T090000
DTEND;TZID=America/Chicago:20280408T103000
DTSTAMP:20260420T220148
CREATED:20240311T143721Z
LAST-MODIFIED:20250220T195950Z
UID:10014072-1838797200-1838802600@883thejourney.org
SUMMARY:Coffee Talk Women's Ministries
DESCRIPTION:Coffee Talk Women’s Ministries meets every second Saturday from 9 to 10:30am at Calvary Church in Ft. Worth. Everyone is welcome for a free breakfast.
URL:https://883thejourney.org/event/coffee-talk-womens-ministries/2028-04-08/
LOCATION:Calvary Church\, 700 McPherson Road\, Fort Worth\, 76140
ORGANIZER;CN="Tracy Shakespeare-Branch":MAILTO:traclight444@aol.com
GEO:32.6040093;-97.2893073
X-APPLE-STRUCTURED-LOCATION;VALUE=URI;X-ADDRESS=Calvary Church 700 McPherson Road Fort Worth 76140;X-APPLE-RADIUS=500;X-TITLE=700 McPherson Road:geo:-97.2893073,32.6040093
END:VEVENT
BEGIN:VEVENT
DTSTART;TZID=America/Chicago:20280411T163000
DTEND;TZID=America/Chicago:20280411T180000
DTSTAMP:20260420T220148
CREATED:20240617T153359Z
LAST-MODIFIED:20240617T153359Z
UID:10014637-1839083400-1839088800@883thejourney.org
SUMMARY:Godley Caregiver Support Group
DESCRIPTION:Alzheimer’s Association support groups provide emotional\, eductional and social support for caregivers thrugh regularly scheduled meetings. Participants learn to develop coping methods and maintain their personal\, physical\, and emotional health.
URL:https://883thejourney.org/event/godley-caregiver-support-group-2/2028-04-11/
LOCATION:Austin County State Bank\, 401 N Highway 171\, Godley\, 76044
CATEGORIES:Community Events
GEO:32.4474557;-97.5330591
X-APPLE-STRUCTURED-LOCATION;VALUE=URI;X-ADDRESS=Austin County State Bank 401 N Highway 171 Godley 76044;X-APPLE-RADIUS=500;X-TITLE=401 N Highway 171:geo:-97.5330591,32.4474557
END:VEVENT
BEGIN:VEVENT
DTSTART;TZID=America/Chicago:20280421T200000
DTEND;TZID=America/Chicago:20280421T223000
DTSTAMP:20260420T220148
CREATED:20230531T152455Z
LAST-MODIFIED:20240129T135601Z
UID:10000978-1839960000-1839969000@883thejourney.org
SUMMARY:Thomsen Observatory
DESCRIPTION:(weather permitting) Look through telescopes and equipment scientists use to study the stars and planets. Plan a star watching party with friends or schedule a tour. But the observatory is open every 1st and 3rd Friday nights of the month. Just bring some bug spray!
URL:https://883thejourney.org/event/thomsen-observatory-2/2028-04-21/
LOCATION:Thomsen Observatory\, 425 Linden St\, Keene\, TX\, 76059\, United States
GEO:32.4019333;-97.3327621
X-APPLE-STRUCTURED-LOCATION;VALUE=URI;X-ADDRESS=Thomsen Observatory 425 Linden St Keene TX 76059 United States;X-APPLE-RADIUS=500;X-TITLE=425 Linden St:geo:-97.3327621,32.4019333
END:VEVENT
BEGIN:VEVENT
DTSTART;TZID=America/Chicago:20280428T060000
DTEND;TZID=America/Chicago:20280428T073000
DTSTAMP:20260420T220148
CREATED:20260302T203009Z
LAST-MODIFIED:20260302T203158Z
UID:10020598-1840514400-1840519800@883thejourney.org
SUMMARY:Women's Abide Gathering
DESCRIPTION:Come enjoy coffee\, community\, and meaningful conversation as we grow together!!!  Rooted in faith. Growing in wholeness. All women welcome—no matter where you’re at in your journey!\n\n\n\n\n\n Flying Squirrel Coffee Company\n216 E Main St\, Crowley\, TX 76036
URL:https://883thejourney.org/event/womens-abide-gathering/2028-04-28/
LOCATION:Flying Squirrell Coffee Company\, 216 E Main St\, Crowley\, TX\, 76036
GEO:32.5781455;-97.3571208
X-APPLE-STRUCTURED-LOCATION;VALUE=URI;X-ADDRESS=Flying Squirrell Coffee Company 216 E Main St Crowley TX 76036;X-APPLE-RADIUS=500;X-TITLE=216 E Main St:geo:-97.3571208,32.5781455
END:VEVENT
BEGIN:VEVENT
DTSTART;TZID=America/Chicago:20280504T130000
DTEND;TZID=America/Chicago:20280504T150000
DTSTAMP:20260420T220148
CREATED:20230515T191538Z
LAST-MODIFIED:20230515T191538Z
UID:10015498-1841058000-1841065200@883thejourney.org
SUMMARY:Volunteer at Senior Food Share
DESCRIPTION:Come volunteer and help serve the senior citizens in our community with our monthly Senior share Food Bank.\nPlease arrive by noon.
URL:https://883thejourney.org/event/volunteer-at-senior-food-share/2028-05-04/
LOCATION:The Annex\, 207 E First Street\, Keene\, 76059
ATTACH;FMTTYPE=image/jpeg:https://883thejourney.org/wp-content/uploads/2023/05/Senior-Food-Share.jpg
GEO:32.3949727;-97.3235144
X-APPLE-STRUCTURED-LOCATION;VALUE=URI;X-ADDRESS=The Annex 207 E First Street Keene 76059;X-APPLE-RADIUS=500;X-TITLE=207 E First Street:geo:-97.3235144,32.3949727
END:VEVENT
BEGIN:VEVENT
DTSTART;TZID=America/Chicago:20280505T200000
DTEND;TZID=America/Chicago:20280505T220000
DTSTAMP:20260420T220148
CREATED:20230531T152337Z
LAST-MODIFIED:20230531T152337Z
UID:10000919-1841169600-1841176800@883thejourney.org
SUMMARY:Thomsen Observatory
DESCRIPTION:Look through telescopes and equipment scientists use to study the stars and planets. Plan a star watching party with friends or schedule a tour. But the observatory is open every 1st and 3rd Friday nights of the month. Just bring some bug spray!
URL:https://883thejourney.org/event/thomsen-observatory/2028-05-05/
LOCATION:Thomsen Observatory\, 425 Linden St\, Keene\, TX\, 76059\, United States
GEO:32.4019333;-97.3327621
X-APPLE-STRUCTURED-LOCATION;VALUE=URI;X-ADDRESS=Thomsen Observatory 425 Linden St Keene TX 76059 United States;X-APPLE-RADIUS=500;X-TITLE=425 Linden St:geo:-97.3327621,32.4019333
END:VEVENT
BEGIN:VEVENT
DTSTART;TZID=America/Chicago:20280509T163000
DTEND;TZID=America/Chicago:20280509T180000
DTSTAMP:20260420T220148
CREATED:20240617T153359Z
LAST-MODIFIED:20240617T153359Z
UID:10014638-1841502600-1841508000@883thejourney.org
SUMMARY:Godley Caregiver Support Group
DESCRIPTION:Alzheimer’s Association support groups provide emotional\, eductional and social support for caregivers thrugh regularly scheduled meetings. Participants learn to develop coping methods and maintain their personal\, physical\, and emotional health.
URL:https://883thejourney.org/event/godley-caregiver-support-group-2/2028-05-09/
LOCATION:Austin County State Bank\, 401 N Highway 171\, Godley\, 76044
CATEGORIES:Community Events
GEO:32.4474557;-97.5330591
X-APPLE-STRUCTURED-LOCATION;VALUE=URI;X-ADDRESS=Austin County State Bank 401 N Highway 171 Godley 76044;X-APPLE-RADIUS=500;X-TITLE=401 N Highway 171:geo:-97.5330591,32.4474557
END:VEVENT
BEGIN:VEVENT
DTSTART;TZID=America/Chicago:20280513T090000
DTEND;TZID=America/Chicago:20280513T103000
DTSTAMP:20260420T220148
CREATED:20240311T143721Z
LAST-MODIFIED:20250220T195950Z
UID:10014073-1841821200-1841826600@883thejourney.org
SUMMARY:Coffee Talk Women's Ministries
DESCRIPTION:Coffee Talk Women’s Ministries meets every second Saturday from 9 to 10:30am at Calvary Church in Ft. Worth. Everyone is welcome for a free breakfast.
URL:https://883thejourney.org/event/coffee-talk-womens-ministries/2028-05-13/
LOCATION:Calvary Church\, 700 McPherson Road\, Fort Worth\, 76140
ORGANIZER;CN="Tracy Shakespeare-Branch":MAILTO:traclight444@aol.com
GEO:32.6040093;-97.2893073
X-APPLE-STRUCTURED-LOCATION;VALUE=URI;X-ADDRESS=Calvary Church 700 McPherson Road Fort Worth 76140;X-APPLE-RADIUS=500;X-TITLE=700 McPherson Road:geo:-97.2893073,32.6040093
END:VEVENT
BEGIN:VEVENT
DTSTART;TZID=America/Chicago:20280519T200000
DTEND;TZID=America/Chicago:20280519T223000
DTSTAMP:20260420T220148
CREATED:20230531T152455Z
LAST-MODIFIED:20240129T135601Z
UID:10000979-1842379200-1842388200@883thejourney.org
SUMMARY:Thomsen Observatory
DESCRIPTION:(weather permitting) Look through telescopes and equipment scientists use to study the stars and planets. Plan a star watching party with friends or schedule a tour. But the observatory is open every 1st and 3rd Friday nights of the month. Just bring some bug spray!
URL:https://883thejourney.org/event/thomsen-observatory-2/2028-05-19/
LOCATION:Thomsen Observatory\, 425 Linden St\, Keene\, TX\, 76059\, United States
GEO:32.4019333;-97.3327621
X-APPLE-STRUCTURED-LOCATION;VALUE=URI;X-ADDRESS=Thomsen Observatory 425 Linden St Keene TX 76059 United States;X-APPLE-RADIUS=500;X-TITLE=425 Linden St:geo:-97.3327621,32.4019333
END:VEVENT
BEGIN:VEVENT
DTSTART;TZID=America/Chicago:20280526T060000
DTEND;TZID=America/Chicago:20280526T073000
DTSTAMP:20260420T220148
CREATED:20260302T203009Z
LAST-MODIFIED:20260302T203158Z
UID:10020599-1842933600-1842939000@883thejourney.org
SUMMARY:Women's Abide Gathering
DESCRIPTION:Come enjoy coffee\, community\, and meaningful conversation as we grow together!!!  Rooted in faith. Growing in wholeness. All women welcome—no matter where you’re at in your journey!\n\n\n\n\n\n Flying Squirrel Coffee Company\n216 E Main St\, Crowley\, TX 76036
URL:https://883thejourney.org/event/womens-abide-gathering/2028-05-26/
LOCATION:Flying Squirrell Coffee Company\, 216 E Main St\, Crowley\, TX\, 76036
GEO:32.5781455;-97.3571208
X-APPLE-STRUCTURED-LOCATION;VALUE=URI;X-ADDRESS=Flying Squirrell Coffee Company 216 E Main St Crowley TX 76036;X-APPLE-RADIUS=500;X-TITLE=216 E Main St:geo:-97.3571208,32.5781455
END:VEVENT
BEGIN:VEVENT
DTSTART;TZID=America/Chicago:20280601T130000
DTEND;TZID=America/Chicago:20280601T150000
DTSTAMP:20260420T220148
CREATED:20230515T191538Z
LAST-MODIFIED:20230515T191538Z
UID:10015499-1843477200-1843484400@883thejourney.org
SUMMARY:Volunteer at Senior Food Share
DESCRIPTION:Come volunteer and help serve the senior citizens in our community with our monthly Senior share Food Bank.\nPlease arrive by noon.
URL:https://883thejourney.org/event/volunteer-at-senior-food-share/2028-06-01/
LOCATION:The Annex\, 207 E First Street\, Keene\, 76059
ATTACH;FMTTYPE=image/jpeg:https://883thejourney.org/wp-content/uploads/2023/05/Senior-Food-Share.jpg
GEO:32.3949727;-97.3235144
X-APPLE-STRUCTURED-LOCATION;VALUE=URI;X-ADDRESS=The Annex 207 E First Street Keene 76059;X-APPLE-RADIUS=500;X-TITLE=207 E First Street:geo:-97.3235144,32.3949727
END:VEVENT
BEGIN:VEVENT
DTSTART;TZID=America/Chicago:20280602T200000
DTEND;TZID=America/Chicago:20280602T220000
DTSTAMP:20260420T220148
CREATED:20230531T152337Z
LAST-MODIFIED:20230531T152337Z
UID:10015512-1843588800-1843596000@883thejourney.org
SUMMARY:Thomsen Observatory
DESCRIPTION:Look through telescopes and equipment scientists use to study the stars and planets. Plan a star watching party with friends or schedule a tour. But the observatory is open every 1st and 3rd Friday nights of the month. Just bring some bug spray!
URL:https://883thejourney.org/event/thomsen-observatory/2028-06-02/
LOCATION:Thomsen Observatory\, 425 Linden St\, Keene\, TX\, 76059\, United States
GEO:32.4019333;-97.3327621
X-APPLE-STRUCTURED-LOCATION;VALUE=URI;X-ADDRESS=Thomsen Observatory 425 Linden St Keene TX 76059 United States;X-APPLE-RADIUS=500;X-TITLE=425 Linden St:geo:-97.3327621,32.4019333
END:VEVENT
BEGIN:VEVENT
DTSTART;TZID=America/Chicago:20280610T090000
DTEND;TZID=America/Chicago:20280610T103000
DTSTAMP:20260420T220148
CREATED:20240311T143721Z
LAST-MODIFIED:20250220T195950Z
UID:10014074-1844240400-1844245800@883thejourney.org
SUMMARY:Coffee Talk Women's Ministries
DESCRIPTION:Coffee Talk Women’s Ministries meets every second Saturday from 9 to 10:30am at Calvary Church in Ft. Worth. Everyone is welcome for a free breakfast.
URL:https://883thejourney.org/event/coffee-talk-womens-ministries/2028-06-10/
LOCATION:Calvary Church\, 700 McPherson Road\, Fort Worth\, 76140
ORGANIZER;CN="Tracy Shakespeare-Branch":MAILTO:traclight444@aol.com
GEO:32.6040093;-97.2893073
X-APPLE-STRUCTURED-LOCATION;VALUE=URI;X-ADDRESS=Calvary Church 700 McPherson Road Fort Worth 76140;X-APPLE-RADIUS=500;X-TITLE=700 McPherson Road:geo:-97.2893073,32.6040093
END:VEVENT
BEGIN:VEVENT
DTSTART;TZID=America/Chicago:20280613T163000
DTEND;TZID=America/Chicago:20280613T180000
DTSTAMP:20260420T220148
CREATED:20240617T153359Z
LAST-MODIFIED:20240617T153359Z
UID:10014639-1844526600-1844532000@883thejourney.org
SUMMARY:Godley Caregiver Support Group
DESCRIPTION:Alzheimer’s Association support groups provide emotional\, eductional and social support for caregivers thrugh regularly scheduled meetings. Participants learn to develop coping methods and maintain their personal\, physical\, and emotional health.
URL:https://883thejourney.org/event/godley-caregiver-support-group-2/2028-06-13/
LOCATION:Austin County State Bank\, 401 N Highway 171\, Godley\, 76044
CATEGORIES:Community Events
GEO:32.4474557;-97.5330591
X-APPLE-STRUCTURED-LOCATION;VALUE=URI;X-ADDRESS=Austin County State Bank 401 N Highway 171 Godley 76044;X-APPLE-RADIUS=500;X-TITLE=401 N Highway 171:geo:-97.5330591,32.4474557
END:VEVENT
BEGIN:VEVENT
DTSTART;TZID=America/Chicago:20280616T200000
DTEND;TZID=America/Chicago:20280616T223000
DTSTAMP:20260420T220148
CREATED:20230531T152455Z
LAST-MODIFIED:20240129T135601Z
UID:10016815-1844798400-1844807400@883thejourney.org
SUMMARY:Thomsen Observatory
DESCRIPTION:(weather permitting) Look through telescopes and equipment scientists use to study the stars and planets. Plan a star watching party with friends or schedule a tour. But the observatory is open every 1st and 3rd Friday nights of the month. Just bring some bug spray!
URL:https://883thejourney.org/event/thomsen-observatory-2/2028-06-16/
LOCATION:Thomsen Observatory\, 425 Linden St\, Keene\, TX\, 76059\, United States
GEO:32.4019333;-97.3327621
X-APPLE-STRUCTURED-LOCATION;VALUE=URI;X-ADDRESS=Thomsen Observatory 425 Linden St Keene TX 76059 United States;X-APPLE-RADIUS=500;X-TITLE=425 Linden St:geo:-97.3327621,32.4019333
END:VEVENT
BEGIN:VEVENT
DTSTART;TZID=America/Chicago:20280630T060000
DTEND;TZID=America/Chicago:20280630T073000
DTSTAMP:20260420T220148
CREATED:20260302T203009Z
LAST-MODIFIED:20260302T203158Z
UID:10020600-1845957600-1845963000@883thejourney.org
SUMMARY:Women's Abide Gathering
DESCRIPTION:Come enjoy coffee\, community\, and meaningful conversation as we grow together!!!  Rooted in faith. Growing in wholeness. All women welcome—no matter where you’re at in your journey!\n\n\n\n\n\n Flying Squirrel Coffee Company\n216 E Main St\, Crowley\, TX 76036
URL:https://883thejourney.org/event/womens-abide-gathering/2028-06-30/
LOCATION:Flying Squirrell Coffee Company\, 216 E Main St\, Crowley\, TX\, 76036
GEO:32.5781455;-97.3571208
X-APPLE-STRUCTURED-LOCATION;VALUE=URI;X-ADDRESS=Flying Squirrell Coffee Company 216 E Main St Crowley TX 76036;X-APPLE-RADIUS=500;X-TITLE=216 E Main St:geo:-97.3571208,32.5781455
END:VEVENT
BEGIN:VEVENT
DTSTART;TZID=America/Chicago:20280706T130000
DTEND;TZID=America/Chicago:20280706T150000
DTSTAMP:20260420T220148
CREATED:20230515T191538Z
LAST-MODIFIED:20230515T191538Z
UID:10015500-1846501200-1846508400@883thejourney.org
SUMMARY:Volunteer at Senior Food Share
DESCRIPTION:Come volunteer and help serve the senior citizens in our community with our monthly Senior share Food Bank.\nPlease arrive by noon.
URL:https://883thejourney.org/event/volunteer-at-senior-food-share/2028-07-06/
LOCATION:The Annex\, 207 E First Street\, Keene\, 76059
ATTACH;FMTTYPE=image/jpeg:https://883thejourney.org/wp-content/uploads/2023/05/Senior-Food-Share.jpg
GEO:32.3949727;-97.3235144
X-APPLE-STRUCTURED-LOCATION;VALUE=URI;X-ADDRESS=The Annex 207 E First Street Keene 76059;X-APPLE-RADIUS=500;X-TITLE=207 E First Street:geo:-97.3235144,32.3949727
END:VEVENT
BEGIN:VEVENT
DTSTART;TZID=America/Chicago:20280707T200000
DTEND;TZID=America/Chicago:20280707T220000
DTSTAMP:20260420T220148
CREATED:20230531T152337Z
LAST-MODIFIED:20230531T152337Z
UID:10015513-1846612800-1846620000@883thejourney.org
SUMMARY:Thomsen Observatory
DESCRIPTION:Look through telescopes and equipment scientists use to study the stars and planets. Plan a star watching party with friends or schedule a tour. But the observatory is open every 1st and 3rd Friday nights of the month. Just bring some bug spray!
URL:https://883thejourney.org/event/thomsen-observatory/2028-07-07/
LOCATION:Thomsen Observatory\, 425 Linden St\, Keene\, TX\, 76059\, United States
GEO:32.4019333;-97.3327621
X-APPLE-STRUCTURED-LOCATION;VALUE=URI;X-ADDRESS=Thomsen Observatory 425 Linden St Keene TX 76059 United States;X-APPLE-RADIUS=500;X-TITLE=425 Linden St:geo:-97.3327621,32.4019333
END:VEVENT
BEGIN:VEVENT
DTSTART;TZID=America/Chicago:20280708T090000
DTEND;TZID=America/Chicago:20280708T103000
DTSTAMP:20260420T220148
CREATED:20240311T143721Z
LAST-MODIFIED:20250220T195950Z
UID:10014075-1846659600-1846665000@883thejourney.org
SUMMARY:Coffee Talk Women's Ministries
DESCRIPTION:Coffee Talk Women’s Ministries meets every second Saturday from 9 to 10:30am at Calvary Church in Ft. Worth. Everyone is welcome for a free breakfast.
URL:https://883thejourney.org/event/coffee-talk-womens-ministries/2028-07-08/
LOCATION:Calvary Church\, 700 McPherson Road\, Fort Worth\, 76140
ORGANIZER;CN="Tracy Shakespeare-Branch":MAILTO:traclight444@aol.com
GEO:32.6040093;-97.2893073
X-APPLE-STRUCTURED-LOCATION;VALUE=URI;X-ADDRESS=Calvary Church 700 McPherson Road Fort Worth 76140;X-APPLE-RADIUS=500;X-TITLE=700 McPherson Road:geo:-97.2893073,32.6040093
END:VEVENT
BEGIN:VEVENT
DTSTART;TZID=America/Chicago:20280711T163000
DTEND;TZID=America/Chicago:20280711T180000
DTSTAMP:20260420T220148
CREATED:20240617T153359Z
LAST-MODIFIED:20240617T153359Z
UID:10014640-1846945800-1846951200@883thejourney.org
SUMMARY:Godley Caregiver Support Group
DESCRIPTION:Alzheimer’s Association support groups provide emotional\, eductional and social support for caregivers thrugh regularly scheduled meetings. Participants learn to develop coping methods and maintain their personal\, physical\, and emotional health.
URL:https://883thejourney.org/event/godley-caregiver-support-group-2/2028-07-11/
LOCATION:Austin County State Bank\, 401 N Highway 171\, Godley\, 76044
CATEGORIES:Community Events
GEO:32.4474557;-97.5330591
X-APPLE-STRUCTURED-LOCATION;VALUE=URI;X-ADDRESS=Austin County State Bank 401 N Highway 171 Godley 76044;X-APPLE-RADIUS=500;X-TITLE=401 N Highway 171:geo:-97.5330591,32.4474557
END:VEVENT
BEGIN:VEVENT
DTSTART;TZID=America/Chicago:20280721T200000
DTEND;TZID=America/Chicago:20280721T223000
DTSTAMP:20260420T220148
CREATED:20230531T152455Z
LAST-MODIFIED:20240129T135601Z
UID:10016816-1847822400-1847831400@883thejourney.org
SUMMARY:Thomsen Observatory
DESCRIPTION:(weather permitting) Look through telescopes and equipment scientists use to study the stars and planets. Plan a star watching party with friends or schedule a tour. But the observatory is open every 1st and 3rd Friday nights of the month. Just bring some bug spray!
URL:https://883thejourney.org/event/thomsen-observatory-2/2028-07-21/
LOCATION:Thomsen Observatory\, 425 Linden St\, Keene\, TX\, 76059\, United States
GEO:32.4019333;-97.3327621
X-APPLE-STRUCTURED-LOCATION;VALUE=URI;X-ADDRESS=Thomsen Observatory 425 Linden St Keene TX 76059 United States;X-APPLE-RADIUS=500;X-TITLE=425 Linden St:geo:-97.3327621,32.4019333
END:VEVENT
BEGIN:VEVENT
DTSTART;TZID=America/Chicago:20280728T060000
DTEND;TZID=America/Chicago:20280728T073000
DTSTAMP:20260420T220148
CREATED:20260302T203009Z
LAST-MODIFIED:20260302T203158Z
UID:10020601-1848376800-1848382200@883thejourney.org
SUMMARY:Women's Abide Gathering
DESCRIPTION:Come enjoy coffee\, community\, and meaningful conversation as we grow together!!!  Rooted in faith. Growing in wholeness. All women welcome—no matter where you’re at in your journey!\n\n\n\n\n\n Flying Squirrel Coffee Company\n216 E Main St\, Crowley\, TX 76036
URL:https://883thejourney.org/event/womens-abide-gathering/2028-07-28/
LOCATION:Flying Squirrell Coffee Company\, 216 E Main St\, Crowley\, TX\, 76036
GEO:32.5781455;-97.3571208
X-APPLE-STRUCTURED-LOCATION;VALUE=URI;X-ADDRESS=Flying Squirrell Coffee Company 216 E Main St Crowley TX 76036;X-APPLE-RADIUS=500;X-TITLE=216 E Main St:geo:-97.3571208,32.5781455
END:VEVENT
BEGIN:VEVENT
DTSTART;TZID=America/Chicago:20280803T130000
DTEND;TZID=America/Chicago:20280803T150000
DTSTAMP:20260420T220148
CREATED:20230515T191538Z
LAST-MODIFIED:20230515T191538Z
UID:10015501-1848920400-1848927600@883thejourney.org
SUMMARY:Volunteer at Senior Food Share
DESCRIPTION:Come volunteer and help serve the senior citizens in our community with our monthly Senior share Food Bank.\nPlease arrive by noon.
URL:https://883thejourney.org/event/volunteer-at-senior-food-share/2028-08-03/
LOCATION:The Annex\, 207 E First Street\, Keene\, 76059
ATTACH;FMTTYPE=image/jpeg:https://883thejourney.org/wp-content/uploads/2023/05/Senior-Food-Share.jpg
GEO:32.3949727;-97.3235144
X-APPLE-STRUCTURED-LOCATION;VALUE=URI;X-ADDRESS=The Annex 207 E First Street Keene 76059;X-APPLE-RADIUS=500;X-TITLE=207 E First Street:geo:-97.3235144,32.3949727
END:VEVENT
BEGIN:VEVENT
DTSTART;TZID=America/Chicago:20280804T200000
DTEND;TZID=America/Chicago:20280804T220000
DTSTAMP:20260420T220148
CREATED:20230531T152337Z
LAST-MODIFIED:20230531T152337Z
UID:10015514-1849032000-1849039200@883thejourney.org
SUMMARY:Thomsen Observatory
DESCRIPTION:Look through telescopes and equipment scientists use to study the stars and planets. Plan a star watching party with friends or schedule a tour. But the observatory is open every 1st and 3rd Friday nights of the month. Just bring some bug spray!
URL:https://883thejourney.org/event/thomsen-observatory/2028-08-04/
LOCATION:Thomsen Observatory\, 425 Linden St\, Keene\, TX\, 76059\, United States
GEO:32.4019333;-97.3327621
X-APPLE-STRUCTURED-LOCATION;VALUE=URI;X-ADDRESS=Thomsen Observatory 425 Linden St Keene TX 76059 United States;X-APPLE-RADIUS=500;X-TITLE=425 Linden St:geo:-97.3327621,32.4019333
END:VEVENT
BEGIN:VEVENT
DTSTART;TZID=America/Chicago:20280808T163000
DTEND;TZID=America/Chicago:20280808T180000
DTSTAMP:20260420T220148
CREATED:20240617T153359Z
LAST-MODIFIED:20240617T153359Z
UID:10014641-1849365000-1849370400@883thejourney.org
SUMMARY:Godley Caregiver Support Group
DESCRIPTION:Alzheimer’s Association support groups provide emotional\, eductional and social support for caregivers thrugh regularly scheduled meetings. Participants learn to develop coping methods and maintain their personal\, physical\, and emotional health.
URL:https://883thejourney.org/event/godley-caregiver-support-group-2/2028-08-08/
LOCATION:Austin County State Bank\, 401 N Highway 171\, Godley\, 76044
CATEGORIES:Community Events
GEO:32.4474557;-97.5330591
X-APPLE-STRUCTURED-LOCATION;VALUE=URI;X-ADDRESS=Austin County State Bank 401 N Highway 171 Godley 76044;X-APPLE-RADIUS=500;X-TITLE=401 N Highway 171:geo:-97.5330591,32.4474557
END:VEVENT
END:VCALENDAR