BEGIN:VCALENDAR
VERSION:2.0
PRODID:-//88.3 The Journey - ECPv6.15.20//NONSGML v1.0//EN
CALSCALE:GREGORIAN
METHOD:PUBLISH
X-WR-CALNAME:88.3 The Journey
X-ORIGINAL-URL:https://883thejourney.org
X-WR-CALDESC:Events for 88.3 The Journey
REFRESH-INTERVAL;VALUE=DURATION:PT1H
X-Robots-Tag:noindex
X-PUBLISHED-TTL:PT1H
BEGIN:VTIMEZONE
TZID:America/Chicago
BEGIN:DAYLIGHT
TZOFFSETFROM:-0600
TZOFFSETTO:-0500
TZNAME:CDT
DTSTART:20250309T080000
END:DAYLIGHT
BEGIN:STANDARD
TZOFFSETFROM:-0500
TZOFFSETTO:-0600
TZNAME:CST
DTSTART:20251102T070000
END:STANDARD
BEGIN:DAYLIGHT
TZOFFSETFROM:-0600
TZOFFSETTO:-0500
TZNAME:CDT
DTSTART:20260308T080000
END:DAYLIGHT
BEGIN:STANDARD
TZOFFSETFROM:-0500
TZOFFSETTO:-0600
TZNAME:CST
DTSTART:20261101T070000
END:STANDARD
BEGIN:DAYLIGHT
TZOFFSETFROM:-0600
TZOFFSETTO:-0500
TZNAME:CDT
DTSTART:20270314T080000
END:DAYLIGHT
BEGIN:STANDARD
TZOFFSETFROM:-0500
TZOFFSETTO:-0600
TZNAME:CST
DTSTART:20271107T070000
END:STANDARD
END:VTIMEZONE
BEGIN:VEVENT
DTSTART;TZID=America/Chicago:20260926T190000
DTEND;TZID=America/Chicago:20260926T213000
DTSTAMP:20260423T084927
CREATED:20260218T051725Z
LAST-MODIFIED:20260218T051725Z
UID:10020501-1790449200-1790458200@883thejourney.org
SUMMARY:Phil Wickham: Song of the Saints Tour [w/Jamie MacDonald]
DESCRIPTION:Join Grammy-nominated and Dove Award-winning Phil Wickham and special guest Jamie MacDonald on the Song of the Saints Tour! This tour will feature many of your favorite songs like This Is Our God\, House of the Lord\, and Hymn of Heaven\, as well as new songs from Phil’s newly released album\, Song of the Saints\, filled with more moving modern worship songs like What An Awesome God\, The King Is In The Room\, and Homesick for Heaven.  Get your tickets today … we can’t wait to see you there! \nSaturday\, Sep 26\, 2026 – 7:00 PM \nDickies Arena – Fort Worth
URL:https://883thejourney.org/event/phil-wickham-song-of-the-saints-tour-w-jamie-macdonald/
LOCATION:Dickies Arena\, 1911 Montgomery St\, Fort Worth\, 76107
CATEGORIES:Concerts
ORGANIZER;CN="TPR":MAILTO:info@tprlive.co
GEO:32.7408908;-97.3699379
X-APPLE-STRUCTURED-LOCATION;VALUE=URI;X-ADDRESS=Dickies Arena 1911 Montgomery St Fort Worth 76107;X-APPLE-RADIUS=500;X-TITLE=1911 Montgomery St:geo:-97.3699379,32.7408908
END:VEVENT
END:VCALENDAR