BEGIN:VCALENDAR
VERSION:2.0
PRODID:-//88.3 The Journey - ECPv6.15.20//NONSGML v1.0//EN
CALSCALE:GREGORIAN
METHOD:PUBLISH
X-WR-CALNAME:88.3 The Journey
X-ORIGINAL-URL:https://883thejourney.org
X-WR-CALDESC:Events for 88.3 The Journey
REFRESH-INTERVAL;VALUE=DURATION:PT1H
X-Robots-Tag:noindex
X-PUBLISHED-TTL:PT1H
BEGIN:VTIMEZONE
TZID:America/Chicago
BEGIN:DAYLIGHT
TZOFFSETFROM:-0600
TZOFFSETTO:-0500
TZNAME:CDT
DTSTART:20250309T080000
END:DAYLIGHT
BEGIN:STANDARD
TZOFFSETFROM:-0500
TZOFFSETTO:-0600
TZNAME:CST
DTSTART:20251102T070000
END:STANDARD
BEGIN:DAYLIGHT
TZOFFSETFROM:-0600
TZOFFSETTO:-0500
TZNAME:CDT
DTSTART:20260308T080000
END:DAYLIGHT
BEGIN:STANDARD
TZOFFSETFROM:-0500
TZOFFSETTO:-0600
TZNAME:CST
DTSTART:20261101T070000
END:STANDARD
BEGIN:DAYLIGHT
TZOFFSETFROM:-0600
TZOFFSETTO:-0500
TZNAME:CDT
DTSTART:20270314T080000
END:DAYLIGHT
BEGIN:STANDARD
TZOFFSETFROM:-0500
TZOFFSETTO:-0600
TZNAME:CST
DTSTART:20271107T070000
END:STANDARD
END:VTIMEZONE
BEGIN:VEVENT
DTSTART;TZID=America/Chicago:20260423T190000
DTEND;TZID=America/Chicago:20260423T210000
DTSTAMP:20260423T072115
CREATED:20260205T001626Z
LAST-MODIFIED:20260205T011040Z
UID:10020490-1776970800-1776978000@883thejourney.org
SUMMARY:Michael W. Smith: KINGDOM COME: A Night of Worship & Hits
DESCRIPTION:Christian Music icon\, Michael W. Smith has announced his highly anticipated new tour\, “KINGDOM COME – A Night of Worship & Hits”\, launching this spring with dates across the U.S. and select international cities. One of the most influential voices in Christian and worship music\, Smith invites audiences into a powerful\, intentional evening that blends worship moments with the songs that have defined generations. \n  \nThursday\, April 23\, 2026 – 7:00 PM \nCovenant Church – Carrollton
URL:https://883thejourney.org/event/michael-w-smith-kingdom-come-a-night-of-worship-hits/
LOCATION:Covenant Church – Carrollton
CATEGORIES:Concerts
ORGANIZER;CN="TPR":MAILTO:info@tprlive.co
END:VEVENT
END:VCALENDAR